BEGIN:VCALENDAR
VERSION:2.0
PRODID:-//spbstu.ru//ical//RU
NAME:Расписание группы 3130801/50006
X-WR-CALNAME:Расписание группы 3130801/50006
TIMEZONE-ID:Europe/Moscow
X-WR-TIMEZONE:Europe/Moscow
BEGIN:VEVENT
UID:4oqu@192.168.245.71:3006
SEQUENCE:0
DTSTAMP:20260424T090453Z
DTSTART:20260601T070000Z
DTEND:20260601T100000Z
SUMMARY:Философия
LOCATION:ГК-2 405
END:VEVENT
BEGIN:VEVENT
UID:9q66@192.168.245.71:3006
SEQUENCE:0
DTSTAMP:20260424T090453Z
DTSTART:20260604T070000Z
DTEND:20260604T100000Z
SUMMARY:Элективная физическая культура и спорт
LOCATION:СК Секции
END:VEVENT
END:VCALENDAR