BEGIN:VCALENDAR
VERSION:2.0
PRODID:-//spbstu.ru//ical//RU
NAME:Расписание группы 3130801/50008
X-WR-CALNAME:Расписание группы 3130801/50008
TIMEZONE-ID:Europe/Moscow
X-WR-TIMEZONE:Europe/Moscow
BEGIN:VEVENT
UID:4qcg@192.168.245.71:3006
SEQUENCE:0
DTSTAMP:20260424T013454Z
DTSTART:20251222T070000Z
DTEND:20251222T090000Z
SUMMARY:Физическая культура
LOCATION:ГК-2 401
END:VEVENT
BEGIN:VEVENT
UID:y235@192.168.245.71:3006
SEQUENCE:0
DTSTAMP:20260424T013454Z
DTSTART:20251222T110000Z
DTEND:20251222T140000Z
SUMMARY:Основы цифровых технологий
LOCATION:ГК-2 304
END:VEVENT
BEGIN:VEVENT
UID:45oh@192.168.245.71:3006
SEQUENCE:0
DTSTAMP:20260424T013454Z
DTSTART:20251223T070000Z
DTEND:20251223T084000Z
SUMMARY:Инженерная графика
LOCATION:ГК-2 404
END:VEVENT
BEGIN:VEVENT
UID:oj94@192.168.245.71:3006
SEQUENCE:0
DTSTAMP:20260424T013454Z
DTSTART:20251223T090000Z
DTEND:20251223T130000Z
SUMMARY:Инженерная графика
LOCATION:ГК-2 404
END:VEVENT
BEGIN:VEVENT
UID:f5al@192.168.245.71:3006
SEQUENCE:0
DTSTAMP:20260424T013454Z
DTSTART:20251224T070000Z
DTEND:20251224T084000Z
SUMMARY:Основы российской государственности
LOCATION:ГК-2 405
END:VEVENT
BEGIN:VEVENT
UID:h8p9@192.168.245.71:3006
SEQUENCE:0
DTSTAMP:20260424T013454Z
DTSTART:20251224T090000Z
DTEND:20251224T130000Z
SUMMARY:Основы российской государственности
LOCATION:ГК-2 405
END:VEVENT
BEGIN:VEVENT
UID:k7st@192.168.245.71:3006
SEQUENCE:0
DTSTAMP:20260424T013454Z
DTSTART:20251225T070000Z
DTEND:20251225T100000Z
SUMMARY:Иностранный язык: Базовый курс
LOCATION:ГК-2 503
END:VEVENT
BEGIN:VEVENT
UID:ordc@192.168.245.71:3006
SEQUENCE:0
DTSTAMP:20260424T013454Z
DTSTART:20251226T110000Z
DTEND:20251226T140000Z
SUMMARY:Геодезия
LOCATION:ГК 108
END:VEVENT
BEGIN:VEVENT
UID:v2c2@192.168.245.71:3006
SEQUENCE:0
DTSTAMP:20260424T013454Z
DTSTART:20251227T060000Z
DTEND:20251227T084000Z
SUMMARY:Иностранный язык: Русский язык как иностранный
LOCATION:ГК 229
END:VEVENT
END:VCALENDAR