BEGIN:VCALENDAR
VERSION:2.0
PRODID:-//spbstu.ru//ical//RU
NAME:Расписание группы 3130801/50008
X-WR-CALNAME:Расписание группы 3130801/50008
TIMEZONE-ID:Europe/Moscow
X-WR-TIMEZONE:Europe/Moscow
BEGIN:VEVENT
UID:9bd9@192.168.245.71:3006
SEQUENCE:0
DTSTAMP:20260421T215310Z
DTSTART:20260518T070000Z
DTEND:20260518T084000Z
SUMMARY:Элективная физическая культура и спорт
LOCATION:СК Секции
END:VEVENT
BEGIN:VEVENT
UID:cpw0@192.168.245.71:3006
SEQUENCE:0
DTSTAMP:20260421T215310Z
DTSTART:20260518T090000Z
DTEND:20260518T104000Z
SUMMARY:Геодезия
LOCATION:ГК 108
END:VEVENT
BEGIN:VEVENT
UID:yjoy@192.168.245.71:3006
SEQUENCE:0
DTSTAMP:20260421T215310Z
DTSTART:20260518T110000Z
DTEND:20260518T124000Z
SUMMARY:Иностранный язык: Базовый курс
LOCATION:ГК-2 314
END:VEVENT
BEGIN:VEVENT
UID:bwg2@192.168.245.71:3006
SEQUENCE:0
DTSTAMP:20260421T215310Z
DTSTART:20260520T130000Z
DTEND:20260520T144000Z
SUMMARY:Философия
LOCATION:ГК-2 509
END:VEVENT
BEGIN:VEVENT
UID:ziad@192.168.245.71:3006
SEQUENCE:0
DTSTAMP:20260421T215310Z
DTSTART:20260522T070000Z
DTEND:20260522T084000Z
SUMMARY:История России
LOCATION:ГЗ 329
END:VEVENT
BEGIN:VEVENT
UID:9kq4@192.168.245.71:3006
SEQUENCE:0
DTSTAMP:20260421T215310Z
DTSTART:20260522T150000Z
DTEND:20260522T164000Z
SUMMARY:История России
LOCATION:DL Дистанционно
END:VEVENT
BEGIN:VEVENT
UID:qd7m@192.168.245.71:3006
SEQUENCE:0
DTSTAMP:20260421T215310Z
DTSTART:20260523T070000Z
DTEND:20260523T084000Z
SUMMARY:Иностранный язык: Русский язык как иностранный
LOCATION:ГЗ 230
END:VEVENT
BEGIN:VEVENT
UID:c8zd@192.168.245.71:3006
SEQUENCE:0
DTSTAMP:20260421T215310Z
DTSTART:20260523T090000Z
DTEND:20260523T104000Z
SUMMARY:Иностранный язык: Русский язык как иностранный
LOCATION:ГЗ 230
END:VEVENT
END:VCALENDAR