BEGIN:VCALENDAR
VERSION:2.0
PRODID:-//spbstu.ru//ical//RU
NAME:Расписание группы 3130801/50008
X-WR-CALNAME:Расписание группы 3130801/50008
TIMEZONE-ID:Europe/Moscow
X-WR-TIMEZONE:Europe/Moscow
BEGIN:VEVENT
UID:xovk@192.168.245.71:3006
SEQUENCE:0
DTSTAMP:20260422T055921Z
DTSTART:20260609T070000Z
DTEND:20260609T074000Z
SUMMARY:Информатика
LOCATION:ГК-2 305
END:VEVENT
BEGIN:VEVENT
UID:vdln@192.168.245.71:3006
SEQUENCE:0
DTSTAMP:20260422T055921Z
DTSTART:20260610T070000Z
DTEND:20260610T133000Z
SUMMARY:Информатика
LOCATION:ГК-2 305
END:VEVENT
END:VCALENDAR