BEGIN:VCALENDAR
VERSION:2.0
PRODID:-//spbstu.ru//ical//RU
NAME:Расписание группы 3130801/50009
X-WR-CALNAME:Расписание группы 3130801/50009
TIMEZONE-ID:Europe/Moscow
X-WR-TIMEZONE:Europe/Moscow
BEGIN:VEVENT
UID:ylza@192.168.245.71:3006
SEQUENCE:0
DTSTAMP:20260425T203541Z
DTSTART:20251117T050000Z
DTEND:20251117T064000Z
SUMMARY:Иностранный язык: Базовый курс
LOCATION:ГК 229
END:VEVENT
BEGIN:VEVENT
UID:o8he@192.168.245.71:3006
SEQUENCE:0
DTSTAMP:20260425T203541Z
DTSTART:20251117T070000Z
DTEND:20251117T084000Z
SUMMARY:Элективная физическая культура и спорт
LOCATION:СК Секции
END:VEVENT
BEGIN:VEVENT
UID:p43k@192.168.245.71:3006
SEQUENCE:0
DTSTAMP:20260425T203541Z
DTSTART:20251117T090000Z
DTEND:20251117T104000Z
SUMMARY:Основы российской государственности
LOCATION:ГЗ 215
END:VEVENT
BEGIN:VEVENT
UID:gfqr@192.168.245.71:3006
SEQUENCE:0
DTSTAMP:20260425T203541Z
DTSTART:20251117T110000Z
DTEND:20251117T124000Z
SUMMARY:Высшая математика
LOCATION:ГК 229
END:VEVENT
BEGIN:VEVENT
UID:fv2x@192.168.245.71:3006
SEQUENCE:0
DTSTAMP:20260425T203541Z
DTSTART:20251117T150000Z
DTEND:20251117T164000Z
SUMMARY:История России
LOCATION:DL Дистанционно
END:VEVENT
BEGIN:VEVENT
UID:039o@192.168.245.71:3006
SEQUENCE:0
DTSTAMP:20260425T203541Z
DTSTART:20251118T050000Z
DTEND:20251118T064000Z
SUMMARY:Русский язык как иностранный
LOCATION:15 к. 305
END:VEVENT
BEGIN:VEVENT
UID:4mxf@192.168.245.71:3006
SEQUENCE:0
DTSTAMP:20260425T203541Z
DTSTART:20251118T070000Z
DTEND:20251118T084000Z
SUMMARY:Высшая математика
LOCATION:ГК 229
END:VEVENT
BEGIN:VEVENT
UID:jwhg@192.168.245.71:3006
SEQUENCE:0
DTSTAMP:20260425T203541Z
DTSTART:20251118T090000Z
DTEND:20251118T104000Z
SUMMARY:История России
LOCATION:ГК-2 509
END:VEVENT
BEGIN:VEVENT
UID:3pdh@192.168.245.71:3006
SEQUENCE:0
DTSTAMP:20260425T203541Z
DTSTART:20251118T110000Z
DTEND:20251118T124000Z
SUMMARY:Высшая математика
LOCATION:ГЗ 329
END:VEVENT
BEGIN:VEVENT
UID:jips@192.168.245.71:3006
SEQUENCE:0
DTSTAMP:20260425T203541Z
DTSTART:20251118T130000Z
DTEND:20251118T144000Z
SUMMARY:Основы цифровых технологий
LOCATION:ГЗ 215
END:VEVENT
BEGIN:VEVENT
UID:r733@192.168.245.71:3006
SEQUENCE:0
DTSTAMP:20260425T203541Z
DTSTART:20251119T090000Z
DTEND:20251119T104000Z
SUMMARY:Инженерная графика
LOCATION:ГК-2 404
END:VEVENT
BEGIN:VEVENT
UID:px9z@192.168.245.71:3006
SEQUENCE:0
DTSTAMP:20260425T203541Z
DTSTART:20251119T110000Z
DTEND:20251119T124000Z
SUMMARY:Химия
LOCATION:Хим. к. 52
END:VEVENT
BEGIN:VEVENT
UID:qt5c@192.168.245.71:3006
SEQUENCE:0
DTSTAMP:20260425T203541Z
DTSTART:20251119T130000Z
DTEND:20251119T144000Z
SUMMARY:Основы цифровых технологий
LOCATION:ГК-2 210
END:VEVENT
BEGIN:VEVENT
UID:75s7@192.168.245.71:3006
SEQUENCE:0
DTSTAMP:20260425T203541Z
DTSTART:20251120T050000Z
DTEND:20251120T064000Z
SUMMARY:Элективная физическая культура и спорт
LOCATION:СК Секции
END:VEVENT
BEGIN:VEVENT
UID:octq@192.168.245.71:3006
SEQUENCE:0
DTSTAMP:20260425T203541Z
DTSTART:20251120T070000Z
DTEND:20251120T084000Z
SUMMARY:Химия
LOCATION:Хим. к. 10
END:VEVENT
BEGIN:VEVENT
UID:tqtt@192.168.245.71:3006
SEQUENCE:0
DTSTAMP:20260425T203541Z
DTSTART:20251120T090000Z
DTEND:20251120T094000Z
SUMMARY:Химия
LOCATION:Хим. к. 10
END:VEVENT
BEGIN:VEVENT
UID:7yyw@192.168.245.71:3006
SEQUENCE:0
DTSTAMP:20260425T203541Z
DTSTART:20251120T090000Z
DTEND:20251120T094000Z
SUMMARY:Химия
LOCATION:Хим. к. 10
END:VEVENT
BEGIN:VEVENT
UID:8rbs@192.168.245.71:3006
SEQUENCE:0
DTSTAMP:20260425T203541Z
DTSTART:20251120T110000Z
DTEND:20251120T124000Z
SUMMARY:Основы российской государственности
LOCATION:ГК-2 509
END:VEVENT
BEGIN:VEVENT
UID:wovb@192.168.245.71:3006
SEQUENCE:0
DTSTAMP:20260425T203541Z
DTSTART:20251121T110000Z
DTEND:20251121T124000Z
SUMMARY:Высшая математика
LOCATION:ГЗ 329
END:VEVENT
BEGIN:VEVENT
UID:5jqf@192.168.245.71:3006
SEQUENCE:0
DTSTAMP:20260425T203541Z
DTSTART:20251121T130000Z
DTEND:20251121T144000Z
SUMMARY:Творческие семестры
LOCATION:ГЗ Белый зал
END:VEVENT
BEGIN:VEVENT
UID:dgul@192.168.245.71:3006
SEQUENCE:0
DTSTAMP:20260425T203541Z
DTSTART:20251122T070000Z
DTEND:20251122T084000Z
SUMMARY:Иностранный язык: Русский язык как иностранный
LOCATION:ГЗ 284
END:VEVENT
BEGIN:VEVENT
UID:ytpm@192.168.245.71:3006
SEQUENCE:0
DTSTAMP:20260425T203541Z
DTSTART:20251122T090000Z
DTEND:20251122T104000Z
SUMMARY:Иностранный язык: Русский язык как иностранный
LOCATION:ГЗ 284
END:VEVENT
END:VCALENDAR