BEGIN:VCALENDAR
VERSION:2.0
PRODID:-//spbstu.ru//ical//RU
NAME:Расписание группы 3130801/50009
X-WR-CALNAME:Расписание группы 3130801/50009
TIMEZONE-ID:Europe/Moscow
X-WR-TIMEZONE:Europe/Moscow
BEGIN:VEVENT
UID:1jfp@192.168.245.71:3006
SEQUENCE:0
DTSTAMP:20260422T171626Z
DTSTART:20260413T070000Z
DTEND:20260413T084000Z
SUMMARY:Элективная физическая культура и спорт
LOCATION:СК Секции
END:VEVENT
BEGIN:VEVENT
UID:pck7@192.168.245.71:3006
SEQUENCE:0
DTSTAMP:20260422T171626Z
DTSTART:20260413T090000Z
DTEND:20260413T104000Z
SUMMARY:Высшая математика
LOCATION:ГЗ 329
END:VEVENT
BEGIN:VEVENT
UID:m86o@192.168.245.71:3006
SEQUENCE:0
DTSTAMP:20260422T171626Z
DTSTART:20260413T110000Z
DTEND:20260413T124000Z
SUMMARY:История России
LOCATION:ГК-2 509
END:VEVENT
BEGIN:VEVENT
UID:8un6@192.168.245.71:3006
SEQUENCE:0
DTSTAMP:20260422T171626Z
DTSTART:20260414T070000Z
DTEND:20260414T084000Z
SUMMARY:Философия
LOCATION:ГК-2 509
END:VEVENT
BEGIN:VEVENT
UID:uzpt@192.168.245.71:3006
SEQUENCE:0
DTSTAMP:20260422T171626Z
DTSTART:20260414T090000Z
DTEND:20260414T104000Z
SUMMARY:Физика
LOCATION:ГЗ 329
END:VEVENT
BEGIN:VEVENT
UID:14tb@192.168.245.71:3006
SEQUENCE:0
DTSTAMP:20260422T171626Z
DTSTART:20260414T110000Z
DTEND:20260414T124000Z
SUMMARY:Инженерная графика
LOCATION:ГК-2 404
END:VEVENT
BEGIN:VEVENT
UID:gbxc@192.168.245.71:3006
SEQUENCE:0
DTSTAMP:20260422T171626Z
DTSTART:20260414T130000Z
DTEND:20260414T144000Z
SUMMARY:Высшая математика
LOCATION:ГК 229
END:VEVENT
BEGIN:VEVENT
UID:fwpx@192.168.245.71:3006
SEQUENCE:0
DTSTAMP:20260422T171626Z
DTSTART:20260415T050000Z
DTEND:20260415T064000Z
SUMMARY:Иностранный язык: Базовый курс
LOCATION:ГК 229
END:VEVENT
BEGIN:VEVENT
UID:56q9@192.168.245.71:3006
SEQUENCE:0
DTSTAMP:20260422T171626Z
DTSTART:20260415T070000Z
DTEND:20260415T084000Z
SUMMARY:Информатика
LOCATION:ГК-2 506
END:VEVENT
BEGIN:VEVENT
UID:s0bx@192.168.245.71:3006
SEQUENCE:0
DTSTAMP:20260422T171626Z
DTSTART:20260415T090000Z
DTEND:20260415T104000Z
SUMMARY:Теоретическая механика
LOCATION:ГК-2 314
END:VEVENT
BEGIN:VEVENT
UID:zmi6@192.168.245.71:3006
SEQUENCE:0
DTSTAMP:20260422T171626Z
DTSTART:20260415T110000Z
DTEND:20260415T124000Z
SUMMARY:Физика
LOCATION:ГЗ 106
END:VEVENT
BEGIN:VEVENT
UID:s36f@192.168.245.71:3006
SEQUENCE:0
DTSTAMP:20260422T171626Z
DTSTART:20260416T050000Z
DTEND:20260416T064000Z
SUMMARY:Элективная физическая культура и спорт
LOCATION:СК Секции
END:VEVENT
BEGIN:VEVENT
UID:dj92@192.168.245.71:3006
SEQUENCE:0
DTSTAMP:20260422T171626Z
DTSTART:20260416T070000Z
DTEND:20260416T084000Z
SUMMARY:Информатика
LOCATION:ГЗ 215
END:VEVENT
BEGIN:VEVENT
UID:5pcw@192.168.245.71:3006
SEQUENCE:0
DTSTAMP:20260422T171626Z
DTSTART:20260416T090000Z
DTEND:20260416T104000Z
SUMMARY:Информатика
LOCATION:ГК-2 506
END:VEVENT
BEGIN:VEVENT
UID:etl2@192.168.245.71:3006
SEQUENCE:0
DTSTAMP:20260422T171626Z
DTSTART:20260416T110000Z
DTEND:20260416T124000Z
SUMMARY:Геодезия
LOCATION:ГК 108
END:VEVENT
BEGIN:VEVENT
UID:9p3m@192.168.245.71:3006
SEQUENCE:0
DTSTAMP:20260422T171626Z
DTSTART:20260417T070000Z
DTEND:20260417T084000Z
SUMMARY:Экономическая культура
LOCATION:ГК-2 509
END:VEVENT
BEGIN:VEVENT
UID:6x6a@192.168.245.71:3006
SEQUENCE:0
DTSTAMP:20260422T171626Z
DTSTART:20260417T090000Z
DTEND:20260417T104000Z
SUMMARY:Теоретическая механика
LOCATION:ГЗ 329
END:VEVENT
BEGIN:VEVENT
UID:97be@192.168.245.71:3006
SEQUENCE:0
DTSTAMP:20260422T171626Z
DTSTART:20260418T070000Z
DTEND:20260418T084000Z
SUMMARY:Иностранный язык: Русский язык как иностранный
LOCATION:ГЗ 212
END:VEVENT
BEGIN:VEVENT
UID:gv3e@192.168.245.71:3006
SEQUENCE:0
DTSTAMP:20260422T171626Z
DTSTART:20260418T090000Z
DTEND:20260418T104000Z
SUMMARY:Иностранный язык: Русский язык как иностранный
LOCATION:ГЗ 212
END:VEVENT
END:VCALENDAR