BEGIN:VCALENDAR
VERSION:2.0
PRODID:-//spbstu.ru//ical//RU
NAME:Расписание группы 3130801/50010
X-WR-CALNAME:Расписание группы 3130801/50010
TIMEZONE-ID:Europe/Moscow
X-WR-TIMEZONE:Europe/Moscow
BEGIN:VEVENT
UID:pxwx@192.168.245.71:3006
SEQUENCE:0
DTSTAMP:20260425T160635Z
DTSTART:20251013T070000Z
DTEND:20251013T084000Z
SUMMARY:Элективная физическая культура и спорт
LOCATION:СК Секции
END:VEVENT
BEGIN:VEVENT
UID:swzm@192.168.245.71:3006
SEQUENCE:0
DTSTAMP:20260425T160635Z
DTSTART:20251013T090000Z
DTEND:20251013T104000Z
SUMMARY:История России
LOCATION:ГЗ 215
END:VEVENT
BEGIN:VEVENT
UID:hl4j@192.168.245.71:3006
SEQUENCE:0
DTSTAMP:20260425T160635Z
DTSTART:20251013T110000Z
DTEND:20251013T124000Z
SUMMARY:Геодезия
LOCATION:ГК 108
END:VEVENT
BEGIN:VEVENT
UID:rpe7@192.168.245.71:3006
SEQUENCE:0
DTSTAMP:20260425T160635Z
DTSTART:20251014T050000Z
DTEND:20251014T064000Z
SUMMARY:Русский язык как иностранный
LOCATION:15 к. 305
END:VEVENT
BEGIN:VEVENT
UID:w99d@192.168.245.71:3006
SEQUENCE:0
DTSTAMP:20260425T160635Z
DTSTART:20251014T070000Z
DTEND:20251014T084000Z
SUMMARY:Геодезия
LOCATION:ГЗ 305
END:VEVENT
BEGIN:VEVENT
UID:b499@192.168.245.71:3006
SEQUENCE:0
DTSTAMP:20260425T160635Z
DTSTART:20251014T090000Z
DTEND:20251014T104000Z
SUMMARY:История России
LOCATION:ГК-2 509
END:VEVENT
BEGIN:VEVENT
UID:n7f5@192.168.245.71:3006
SEQUENCE:0
DTSTAMP:20260425T160635Z
DTSTART:20251014T110000Z
DTEND:20251014T124000Z
SUMMARY:Высшая математика
LOCATION:ГЗ 329
END:VEVENT
BEGIN:VEVENT
UID:zzos@192.168.245.71:3006
SEQUENCE:0
DTSTAMP:20260425T160635Z
DTSTART:20251014T130000Z
DTEND:20251014T144000Z
SUMMARY:Введение в профессиональную деятельность
LOCATION:ГК-2 405
END:VEVENT
BEGIN:VEVENT
UID:pv85@192.168.245.71:3006
SEQUENCE:0
DTSTAMP:20260425T160635Z
DTSTART:20251015T080000Z
DTEND:20251015T084000Z
SUMMARY:Химия
LOCATION:Хим. к. 10
END:VEVENT
BEGIN:VEVENT
UID:3dsb@192.168.245.71:3006
SEQUENCE:0
DTSTAMP:20260425T160635Z
DTSTART:20251015T080000Z
DTEND:20251015T084000Z
SUMMARY:Химия
LOCATION:Хим. к. 10
END:VEVENT
BEGIN:VEVENT
UID:7450@192.168.245.71:3006
SEQUENCE:0
DTSTAMP:20260425T160635Z
DTSTART:20251015T090000Z
DTEND:20251015T104000Z
SUMMARY:Химия
LOCATION:Хим. к. 10
END:VEVENT
BEGIN:VEVENT
UID:cp5l@192.168.245.71:3006
SEQUENCE:0
DTSTAMP:20260425T160635Z
DTSTART:20251015T110000Z
DTEND:20251015T124000Z
SUMMARY:Химия
LOCATION:ГЗ 305
END:VEVENT
BEGIN:VEVENT
UID:mjfd@192.168.245.71:3006
SEQUENCE:0
DTSTAMP:20260425T160635Z
DTSTART:20251015T130000Z
DTEND:20251015T144000Z
SUMMARY:Инженерная графика
LOCATION:ГЗ 215
END:VEVENT
BEGIN:VEVENT
UID:sr2m@192.168.245.71:3006
SEQUENCE:0
DTSTAMP:20260425T160635Z
DTSTART:20251016T050000Z
DTEND:20251016T064000Z
SUMMARY:Элективная физическая культура и спорт
LOCATION:СК Секции
END:VEVENT
BEGIN:VEVENT
UID:3dm4@192.168.245.71:3006
SEQUENCE:0
DTSTAMP:20260425T160635Z
DTSTART:20251016T070000Z
DTEND:20251016T084000Z
SUMMARY:Инженерная графика
LOCATION:ГК-2 404
END:VEVENT
BEGIN:VEVENT
UID:pkvp@192.168.245.71:3006
SEQUENCE:0
DTSTAMP:20260425T160635Z
DTSTART:20251016T090000Z
DTEND:20251016T104000Z
SUMMARY:Высшая математика
LOCATION:ГК 229
END:VEVENT
BEGIN:VEVENT
UID:0le7@192.168.245.71:3006
SEQUENCE:0
DTSTAMP:20260425T160635Z
DTSTART:20251016T110000Z
DTEND:20251016T124000Z
SUMMARY:Основы российской государственности
LOCATION:ГК-2 509
END:VEVENT
BEGIN:VEVENT
UID:luas@192.168.245.71:3006
SEQUENCE:0
DTSTAMP:20260425T160635Z
DTSTART:20251017T050000Z
DTEND:20251017T064000Z
SUMMARY:Русский язык как иностранный
LOCATION:15 к. 305
END:VEVENT
BEGIN:VEVENT
UID:bigt@192.168.245.71:3006
SEQUENCE:0
DTSTAMP:20260425T160635Z
DTSTART:20251017T090000Z
DTEND:20251017T104000Z
SUMMARY:Основы цифровых технологий
LOCATION:ГК-2 402
END:VEVENT
BEGIN:VEVENT
UID:rc9w@192.168.245.71:3006
SEQUENCE:0
DTSTAMP:20260425T160635Z
DTSTART:20251017T110000Z
DTEND:20251017T124000Z
SUMMARY:Иностранный язык: Базовый курс
LOCATION:ГК-2 309
END:VEVENT
BEGIN:VEVENT
UID:pk38@192.168.245.71:3006
SEQUENCE:0
DTSTAMP:20260425T160635Z
DTSTART:20251017T130000Z
DTEND:20251017T144000Z
SUMMARY:Введение в профессиональную деятельность
LOCATION:ГЗ 215
END:VEVENT
BEGIN:VEVENT
UID:1rod@192.168.245.71:3006
SEQUENCE:0
DTSTAMP:20260425T160635Z
DTSTART:20251018T070000Z
DTEND:20251018T084000Z
SUMMARY:Иностранный язык: Русский язык как иностранный
LOCATION:ГЗ 284
END:VEVENT
BEGIN:VEVENT
UID:0dxx@192.168.245.71:3006
SEQUENCE:0
DTSTAMP:20260425T160635Z
DTSTART:20251018T090000Z
DTEND:20251018T104000Z
SUMMARY:Иностранный язык: Русский язык как иностранный
LOCATION:ГЗ 284
END:VEVENT
END:VCALENDAR