BEGIN:VCALENDAR
VERSION:2.0
PRODID:-//spbstu.ru//ical//RU
NAME:Расписание группы 3130801/50010
X-WR-CALNAME:Расписание группы 3130801/50010
TIMEZONE-ID:Europe/Moscow
X-WR-TIMEZONE:Europe/Moscow
BEGIN:VEVENT
UID:8ju4@192.168.245.71:3006
SEQUENCE:0
DTSTAMP:20260424T102700Z
DTSTART:20251124T070000Z
DTEND:20251124T084000Z
SUMMARY:Элективная физическая культура и спорт
LOCATION:СК Секции
END:VEVENT
BEGIN:VEVENT
UID:7hdl@192.168.245.71:3006
SEQUENCE:0
DTSTAMP:20260424T102700Z
DTSTART:20251124T090000Z
DTEND:20251124T104000Z
SUMMARY:История России
LOCATION:ГЗ 215
END:VEVENT
BEGIN:VEVENT
UID:xc09@192.168.245.71:3006
SEQUENCE:0
DTSTAMP:20260424T102700Z
DTSTART:20251124T110000Z
DTEND:20251124T124000Z
SUMMARY:Геодезия
LOCATION:ГК 108
END:VEVENT
BEGIN:VEVENT
UID:d93n@192.168.245.71:3006
SEQUENCE:0
DTSTAMP:20260424T102700Z
DTSTART:20251125T050000Z
DTEND:20251125T064000Z
SUMMARY:Русский язык как иностранный
LOCATION:15 к. 305
END:VEVENT
BEGIN:VEVENT
UID:5uiq@192.168.245.71:3006
SEQUENCE:0
DTSTAMP:20260424T102700Z
DTSTART:20251125T070000Z
DTEND:20251125T084000Z
SUMMARY:Геодезия
LOCATION:ГЗ 305
END:VEVENT
BEGIN:VEVENT
UID:6klm@192.168.245.71:3006
SEQUENCE:0
DTSTAMP:20260424T102700Z
DTSTART:20251125T090000Z
DTEND:20251125T104000Z
SUMMARY:История России
LOCATION:ГК-2 509
END:VEVENT
BEGIN:VEVENT
UID:w6g4@192.168.245.71:3006
SEQUENCE:0
DTSTAMP:20260424T102700Z
DTSTART:20251125T110000Z
DTEND:20251125T124000Z
SUMMARY:Высшая математика
LOCATION:ГЗ 329
END:VEVENT
BEGIN:VEVENT
UID:jvma@192.168.245.71:3006
SEQUENCE:0
DTSTAMP:20260424T102700Z
DTSTART:20251126T080000Z
DTEND:20251126T084000Z
SUMMARY:Химия
LOCATION:Хим. к. 10
END:VEVENT
BEGIN:VEVENT
UID:1q6q@192.168.245.71:3006
SEQUENCE:0
DTSTAMP:20260424T102700Z
DTSTART:20251126T080000Z
DTEND:20251126T084000Z
SUMMARY:Химия
LOCATION:Хим. к. 10
END:VEVENT
BEGIN:VEVENT
UID:rxwn@192.168.245.71:3006
SEQUENCE:0
DTSTAMP:20260424T102700Z
DTSTART:20251126T090000Z
DTEND:20251126T104000Z
SUMMARY:Химия
LOCATION:Хим. к. 10
END:VEVENT
BEGIN:VEVENT
UID:o10m@192.168.245.71:3006
SEQUENCE:0
DTSTAMP:20260424T102700Z
DTSTART:20251126T090000Z
DTEND:20251126T104000Z
SUMMARY:Химия
LOCATION:Хим. к. 10
END:VEVENT
BEGIN:VEVENT
UID:j220@192.168.245.71:3006
SEQUENCE:0
DTSTAMP:20260424T102700Z
DTSTART:20251126T110000Z
DTEND:20251126T124000Z
SUMMARY:Химия
LOCATION:ГЗ 305
END:VEVENT
BEGIN:VEVENT
UID:55kx@192.168.245.71:3006
SEQUENCE:0
DTSTAMP:20260424T102700Z
DTSTART:20251127T050000Z
DTEND:20251127T064000Z
SUMMARY:Элективная физическая культура и спорт
LOCATION:СК Секции
END:VEVENT
BEGIN:VEVENT
UID:mpb7@192.168.245.71:3006
SEQUENCE:0
DTSTAMP:20260424T102700Z
DTSTART:20251127T070000Z
DTEND:20251127T084000Z
SUMMARY:Инженерная графика
LOCATION:ГК-2 404
END:VEVENT
BEGIN:VEVENT
UID:ju09@192.168.245.71:3006
SEQUENCE:0
DTSTAMP:20260424T102700Z
DTSTART:20251127T090000Z
DTEND:20251127T104000Z
SUMMARY:Высшая математика
LOCATION:ГК 229
END:VEVENT
BEGIN:VEVENT
UID:3zwc@192.168.245.71:3006
SEQUENCE:0
DTSTAMP:20260424T102700Z
DTSTART:20251127T110000Z
DTEND:20251127T124000Z
SUMMARY:Основы российской государственности
LOCATION:ГК-2 509
END:VEVENT
BEGIN:VEVENT
UID:vj94@192.168.245.71:3006
SEQUENCE:0
DTSTAMP:20260424T102700Z
DTSTART:20251128T050000Z
DTEND:20251128T064000Z
SUMMARY:Русский язык как иностранный
LOCATION:15 к. 305
END:VEVENT
BEGIN:VEVENT
UID:gzix@192.168.245.71:3006
SEQUENCE:0
DTSTAMP:20260424T102700Z
DTSTART:20251128T090000Z
DTEND:20251128T104000Z
SUMMARY:Основы цифровых технологий
LOCATION:ГК-2 402
END:VEVENT
BEGIN:VEVENT
UID:bb8z@192.168.245.71:3006
SEQUENCE:0
DTSTAMP:20260424T102700Z
DTSTART:20251128T110000Z
DTEND:20251128T124000Z
SUMMARY:Иностранный язык: Базовый курс
LOCATION:ГК-2 309
END:VEVENT
BEGIN:VEVENT
UID:y8pp@192.168.245.71:3006
SEQUENCE:0
DTSTAMP:20260424T102700Z
DTSTART:20251128T130000Z
DTEND:20251128T144000Z
SUMMARY:Введение в профессиональную деятельность
LOCATION:ГЗ 215
END:VEVENT
BEGIN:VEVENT
UID:klwc@192.168.245.71:3006
SEQUENCE:0
DTSTAMP:20260424T102700Z
DTSTART:20251129T070000Z
DTEND:20251129T084000Z
SUMMARY:Иностранный язык: Русский язык как иностранный
LOCATION:ГЗ 284
END:VEVENT
BEGIN:VEVENT
UID:mcmg@192.168.245.71:3006
SEQUENCE:0
DTSTAMP:20260424T102700Z
DTSTART:20251129T090000Z
DTEND:20251129T104000Z
SUMMARY:Иностранный язык: Русский язык как иностранный
LOCATION:ГЗ 284
END:VEVENT
END:VCALENDAR