BEGIN:VCALENDAR
VERSION:2.0
PRODID:-//spbstu.ru//ical//RU
NAME:Расписание группы 3135401/50001
X-WR-CALNAME:Расписание группы 3135401/50001
TIMEZONE-ID:Europe/Moscow
X-WR-TIMEZONE:Europe/Moscow
BEGIN:VEVENT
UID:aqe2@192.168.245.71:3006
SEQUENCE:0
DTSTAMP:20260424T234925Z
DTSTART:20251006T050000Z
DTEND:20251006T064000Z
SUMMARY:Русский язык как иностранный
LOCATION:15 к. 705
END:VEVENT
BEGIN:VEVENT
UID:odtn@192.168.245.71:3006
SEQUENCE:0
DTSTAMP:20260424T234925Z
DTSTART:20251006T070000Z
DTEND:20251006T084000Z
SUMMARY:Элективная физическая культура и спорт
LOCATION:СК Секции
END:VEVENT
BEGIN:VEVENT
UID:smgl@192.168.245.71:3006
SEQUENCE:0
DTSTAMP:20260424T234925Z
DTSTART:20251006T110000Z
DTEND:20251006T124000Z
SUMMARY:Цветоведение
LOCATION:ГЗ 305
END:VEVENT
BEGIN:VEVENT
UID:5489@192.168.245.71:3006
SEQUENCE:0
DTSTAMP:20260424T234925Z
DTSTART:20251007T050000Z
DTEND:20251007T064000Z
SUMMARY:Русский язык как иностранный
LOCATION:15 к. 705
END:VEVENT
BEGIN:VEVENT
UID:qt5j@192.168.245.71:3006
SEQUENCE:0
DTSTAMP:20260424T234925Z
DTSTART:20251007T070000Z
DTEND:20251007T084000Z
SUMMARY:Введение в профессиональную деятельность
LOCATION:ГЗ 283
END:VEVENT
BEGIN:VEVENT
UID:1cxx@192.168.245.71:3006
SEQUENCE:0
DTSTAMP:20260424T234925Z
DTSTART:20251007T090000Z
DTEND:20251007T114000Z
SUMMARY:Академический рисунок
LOCATION:ГЗ 314
END:VEVENT
BEGIN:VEVENT
UID:0n5b@192.168.245.71:3006
SEQUENCE:0
DTSTAMP:20260424T234925Z
DTSTART:20251008T070000Z
DTEND:20251008T085000Z
SUMMARY:Основы цифровых технологий
LOCATION:ГЗ 303 (5)
END:VEVENT
BEGIN:VEVENT
UID:8ftu@192.168.245.71:3006
SEQUENCE:0
DTSTAMP:20260424T234925Z
DTSTART:20251008T090000Z
DTEND:20251008T104000Z
SUMMARY:Инженерная геометрия
LOCATION:ГЗ 304
END:VEVENT
BEGIN:VEVENT
UID:urmt@192.168.245.71:3006
SEQUENCE:0
DTSTAMP:20260424T234925Z
DTSTART:20251008T110000Z
DTEND:20251008T124000Z
SUMMARY:История искусств
LOCATION:ГЗ 122
END:VEVENT
BEGIN:VEVENT
UID:zm6v@192.168.245.71:3006
SEQUENCE:0
DTSTAMP:20260424T234925Z
DTSTART:20251008T130000Z
DTEND:20251008T144000Z
SUMMARY:Основы российской государственности
LOCATION:ГЗ 215
END:VEVENT
BEGIN:VEVENT
UID:c96k@192.168.245.71:3006
SEQUENCE:0
DTSTAMP:20260424T234925Z
DTSTART:20251009T050000Z
DTEND:20251009T064000Z
SUMMARY:Элективная физическая культура и спорт
LOCATION:СК Секции
END:VEVENT
BEGIN:VEVENT
UID:k241@192.168.245.71:3006
SEQUENCE:0
DTSTAMP:20260424T234925Z
DTSTART:20251009T070000Z
DTEND:20251009T084000Z
SUMMARY:Цветоведение
LOCATION:ГЗ 314
END:VEVENT
BEGIN:VEVENT
UID:civ2@192.168.245.71:3006
SEQUENCE:0
DTSTAMP:20260424T234925Z
DTSTART:20251010T070000Z
DTEND:20251010T084000Z
SUMMARY:Иностранный язык: Базовый курс
LOCATION:ГЗ 218
END:VEVENT
BEGIN:VEVENT
UID:268p@192.168.245.71:3006
SEQUENCE:0
DTSTAMP:20260424T234925Z
DTSTART:20251010T090000Z
DTEND:20251010T104000Z
SUMMARY:Введение в профессиональную деятельность
LOCATION:ГЗ 304
END:VEVENT
BEGIN:VEVENT
UID:4gwx@192.168.245.71:3006
SEQUENCE:0
DTSTAMP:20260424T234925Z
DTSTART:20251010T110000Z
DTEND:20251010T124000Z
SUMMARY:Бионика
LOCATION:ГЗ 215
END:VEVENT
BEGIN:VEVENT
UID:t198@192.168.245.71:3006
SEQUENCE:0
DTSTAMP:20260424T234925Z
DTSTART:20251010T130000Z
DTEND:20251010T144000Z
SUMMARY:Творческие семестры
LOCATION:ГЗ Белый зал
END:VEVENT
BEGIN:VEVENT
UID:jqeu@192.168.245.71:3006
SEQUENCE:0
DTSTAMP:20260424T234925Z
DTSTART:20251011T070000Z
DTEND:20251011T084000Z
SUMMARY:Иностранный язык: Русский язык как иностранный
LOCATION:ГЗ 284
END:VEVENT
BEGIN:VEVENT
UID:oy2u@192.168.245.71:3006
SEQUENCE:0
DTSTAMP:20260424T234925Z
DTSTART:20251011T090000Z
DTEND:20251011T104000Z
SUMMARY:Основы российской государственности
LOCATION:ГК-2 512
END:VEVENT
BEGIN:VEVENT
UID:dp2o@192.168.245.71:3006
SEQUENCE:0
DTSTAMP:20260424T234925Z
DTSTART:20251011T110000Z
DTEND:20251011T124000Z
SUMMARY:История России
LOCATION:ГК-2 509
END:VEVENT
END:VCALENDAR