BEGIN:VCALENDAR
VERSION:2.0
PRODID:-//spbstu.ru//ical//RU
NAME:Расписание группы 3135401/50001
X-WR-CALNAME:Расписание группы 3135401/50001
TIMEZONE-ID:Europe/Moscow
X-WR-TIMEZONE:Europe/Moscow
BEGIN:VEVENT
UID:5d94@192.168.245.71:3006
SEQUENCE:0
DTSTAMP:20260423T222550Z
DTSTART:20251208T050000Z
DTEND:20251208T064000Z
SUMMARY:Русский язык как иностранный
LOCATION:15 к. 705
END:VEVENT
BEGIN:VEVENT
UID:phsn@192.168.245.71:3006
SEQUENCE:0
DTSTAMP:20260423T222550Z
DTSTART:20251208T070000Z
DTEND:20251208T084000Z
SUMMARY:Элективная физическая культура и спорт
LOCATION:СК Секции
END:VEVENT
BEGIN:VEVENT
UID:j9v0@192.168.245.71:3006
SEQUENCE:0
DTSTAMP:20260423T222550Z
DTSTART:20251209T070000Z
DTEND:20251209T084000Z
SUMMARY:Инженерная геометрия
LOCATION:ГЗ 122
END:VEVENT
BEGIN:VEVENT
UID:aft3@192.168.245.71:3006
SEQUENCE:0
DTSTAMP:20260423T222550Z
DTSTART:20251209T090000Z
DTEND:20251209T113000Z
SUMMARY:Академический рисунок
LOCATION:ГЗ 314
END:VEVENT
BEGIN:VEVENT
UID:n02y@192.168.245.71:3006
SEQUENCE:0
DTSTAMP:20260423T222550Z
DTSTART:20251210T090000Z
DTEND:20251210T104000Z
SUMMARY:Инженерная геометрия
LOCATION:ГЗ 304
END:VEVENT
BEGIN:VEVENT
UID:jtw4@192.168.245.71:3006
SEQUENCE:0
DTSTAMP:20260423T222550Z
DTSTART:20251211T070000Z
DTEND:20251211T084000Z
SUMMARY:Концепции современного естествознания
LOCATION:ГЗ 161
END:VEVENT
BEGIN:VEVENT
UID:pw43@192.168.245.71:3006
SEQUENCE:0
DTSTAMP:20260423T222550Z
DTSTART:20251212T070000Z
DTEND:20251212T084000Z
SUMMARY:Иностранный язык: Базовый курс
LOCATION:ГЗ 218
END:VEVENT
BEGIN:VEVENT
UID:ikkv@192.168.245.71:3006
SEQUENCE:0
DTSTAMP:20260423T222550Z
DTSTART:20251212T090000Z
DTEND:20251212T104000Z
SUMMARY:Введение в профессиональную деятельность
LOCATION:ГЗ 304
END:VEVENT
BEGIN:VEVENT
UID:odu9@192.168.245.71:3006
SEQUENCE:0
DTSTAMP:20260423T222550Z
DTSTART:20251212T110000Z
DTEND:20251212T124000Z
SUMMARY:История России
LOCATION:Мех. к. БМ
END:VEVENT
BEGIN:VEVENT
UID:4uik@192.168.245.71:3006
SEQUENCE:0
DTSTAMP:20260423T222550Z
DTSTART:20251212T130000Z
DTEND:20251212T144000Z
SUMMARY:История России
LOCATION:Мех. к. БМ
END:VEVENT
BEGIN:VEVENT
UID:j3ku@192.168.245.71:3006
SEQUENCE:0
DTSTAMP:20260423T222550Z
DTSTART:20251213T070000Z
DTEND:20251213T084000Z
SUMMARY:Иностранный язык: Русский язык как иностранный
LOCATION:ГЗ 284
END:VEVENT
BEGIN:VEVENT
UID:gpft@192.168.245.71:3006
SEQUENCE:0
DTSTAMP:20260423T222550Z
DTSTART:20251213T090000Z
DTEND:20251213T104000Z
SUMMARY:Основы российской государственности
LOCATION:ГК-2 512
END:VEVENT
BEGIN:VEVENT
UID:0n08@192.168.245.71:3006
SEQUENCE:0
DTSTAMP:20260423T222550Z
DTSTART:20251213T110000Z
DTEND:20251213T124000Z
SUMMARY:История России
LOCATION:ГК-2 509
END:VEVENT
BEGIN:VEVENT
UID:egef@192.168.245.71:3006
SEQUENCE:0
DTSTAMP:20260423T222550Z
DTSTART:20251213T130000Z
DTEND:20251213T144000Z
SUMMARY:Иностранный язык: Русский язык как иностранный
LOCATION:3 к. 211
END:VEVENT
END:VCALENDAR