BEGIN:VCALENDAR
VERSION:2.0
PRODID:-//spbstu.ru//ical//RU
NAME:Расписание группы 3135401/50001
X-WR-CALNAME:Расписание группы 3135401/50001
TIMEZONE-ID:Europe/Moscow
X-WR-TIMEZONE:Europe/Moscow
BEGIN:VEVENT
UID:8l60@192.168.245.71:3006
SEQUENCE:0
DTSTAMP:20260426T022640Z
DTSTART:20250902T070000Z
DTEND:20250902T084000Z
SUMMARY:Инженерная геометрия
LOCATION:ГЗ 122
END:VEVENT
BEGIN:VEVENT
UID:vi0n@192.168.245.71:3006
SEQUENCE:0
DTSTAMP:20260426T022640Z
DTSTART:20250902T090000Z
DTEND:20250902T114000Z
SUMMARY:Академический рисунок
LOCATION:ГЗ 314
END:VEVENT
BEGIN:VEVENT
UID:xw6s@192.168.245.71:3006
SEQUENCE:0
DTSTAMP:20260426T022640Z
DTSTART:20250903T090000Z
DTEND:20250903T104000Z
SUMMARY:Инженерная геометрия
LOCATION:ГЗ 304
END:VEVENT
BEGIN:VEVENT
UID:8ed6@192.168.245.71:3006
SEQUENCE:0
DTSTAMP:20260426T022640Z
DTSTART:20250903T110000Z
DTEND:20250903T124000Z
SUMMARY:История искусств
LOCATION:ГЗ 122
END:VEVENT
BEGIN:VEVENT
UID:h92r@192.168.245.71:3006
SEQUENCE:0
DTSTAMP:20260426T022640Z
DTSTART:20250903T130000Z
DTEND:20250903T144000Z
SUMMARY:Основы цифровых технологий
LOCATION:ГЗ 329
END:VEVENT
BEGIN:VEVENT
UID:t1tp@192.168.245.71:3006
SEQUENCE:0
DTSTAMP:20260426T022640Z
DTSTART:20250904T070000Z
DTEND:20250904T084000Z
SUMMARY:Концепции современного естествознания
LOCATION:ГЗ 161
END:VEVENT
BEGIN:VEVENT
UID:qe1e@192.168.245.71:3006
SEQUENCE:0
DTSTAMP:20260426T022640Z
DTSTART:20250904T090000Z
DTEND:20250904T104000Z
SUMMARY:Бионика
LOCATION:ГЗ 304
END:VEVENT
BEGIN:VEVENT
UID:79ef@192.168.245.71:3006
SEQUENCE:0
DTSTAMP:20260426T022640Z
DTSTART:20250905T070000Z
DTEND:20250905T084000Z
SUMMARY:Иностранный язык: Базовый курс
LOCATION:ГЗ 303 (1)
END:VEVENT
BEGIN:VEVENT
UID:p4pg@192.168.245.71:3006
SEQUENCE:0
DTSTAMP:20260426T022640Z
DTSTART:20250905T090000Z
DTEND:20250905T104000Z
SUMMARY:Введение в профессиональную деятельность
LOCATION:ГЗ 304
END:VEVENT
BEGIN:VEVENT
UID:yve7@192.168.245.71:3006
SEQUENCE:0
DTSTAMP:20260426T022640Z
DTSTART:20250905T110000Z
DTEND:20250905T124000Z
SUMMARY:История России
LOCATION:Мех. к. БМ
END:VEVENT
BEGIN:VEVENT
UID:hnlq@192.168.245.71:3006
SEQUENCE:0
DTSTAMP:20260426T022640Z
DTSTART:20250905T130000Z
DTEND:20250905T144000Z
SUMMARY:Физическая культура
LOCATION:ГЗ 305
END:VEVENT
BEGIN:VEVENT
UID:y409@192.168.245.71:3006
SEQUENCE:0
DTSTAMP:20260426T022640Z
DTSTART:20250906T090000Z
DTEND:20250906T104000Z
SUMMARY:Основы российской государственности
LOCATION:ГК-2 512
END:VEVENT
BEGIN:VEVENT
UID:9ewu@192.168.245.71:3006
SEQUENCE:0
DTSTAMP:20260426T022640Z
DTSTART:20250906T110000Z
DTEND:20250906T124000Z
SUMMARY:История России
LOCATION:ГК-2 509
END:VEVENT
END:VCALENDAR