BEGIN:VCALENDAR
VERSION:2.0
PRODID:-//spbstu.ru//ical//RU
NAME:Расписание группы 3135401/50001
X-WR-CALNAME:Расписание группы 3135401/50001
TIMEZONE-ID:Europe/Moscow
X-WR-TIMEZONE:Europe/Moscow
BEGIN:VEVENT
UID:6rcg@192.168.245.71:3006
SEQUENCE:0
DTSTAMP:20260422T123802Z
DTSTART:20260209T070000Z
DTEND:20260209T084000Z
SUMMARY:Элективная физическая культура и спорт
LOCATION:СК Секции
END:VEVENT
BEGIN:VEVENT
UID:6f3j@192.168.245.71:3006
SEQUENCE:0
DTSTAMP:20260422T123802Z
DTSTART:20260209T090000Z
DTEND:20260209T104000Z
SUMMARY:Информатика
LOCATION:ГЗ 303 (5)
END:VEVENT
BEGIN:VEVENT
UID:dyq7@192.168.245.71:3006
SEQUENCE:0
DTSTAMP:20260422T123802Z
DTSTART:20260209T110000Z
DTEND:20260209T124000Z
SUMMARY:История России
LOCATION:ГЗ 208
END:VEVENT
BEGIN:VEVENT
UID:140v@192.168.245.71:3006
SEQUENCE:0
DTSTAMP:20260422T123802Z
DTSTART:20260209T150000Z
DTEND:20260209T164000Z
SUMMARY:Иностранный язык: Русский язык как иностранный
LOCATION:ГК-2 309
END:VEVENT
BEGIN:VEVENT
UID:62s5@192.168.245.71:3006
SEQUENCE:0
DTSTAMP:20260422T123802Z
DTSTART:20260210T060000Z
DTEND:20260210T064000Z
SUMMARY:Рисунок
LOCATION:ГЗ 314
END:VEVENT
BEGIN:VEVENT
UID:mxf3@192.168.245.71:3006
SEQUENCE:0
DTSTAMP:20260422T123802Z
DTSTART:20260210T070000Z
DTEND:20260210T084000Z
SUMMARY:Рисунок
LOCATION:ГЗ 314
END:VEVENT
BEGIN:VEVENT
UID:vj3h@192.168.245.71:3006
SEQUENCE:0
DTSTAMP:20260422T123802Z
DTSTART:20260210T090000Z
DTEND:20260210T104000Z
SUMMARY:Эргономика
LOCATION:ГЗ 303 (1)
END:VEVENT
BEGIN:VEVENT
UID:dyp8@192.168.245.71:3006
SEQUENCE:0
DTSTAMP:20260422T123802Z
DTSTART:20260210T110000Z
DTEND:20260210T124000Z
SUMMARY:Информатика
LOCATION:ГЗ 303 (3)
END:VEVENT
BEGIN:VEVENT
UID:y2q3@192.168.245.71:3006
SEQUENCE:0
DTSTAMP:20260422T123802Z
DTSTART:20260210T150000Z
DTEND:20260210T164000Z
SUMMARY:Цветоведение
LOCATION:ГЗ 314
END:VEVENT
BEGIN:VEVENT
UID:3xqc@192.168.245.71:3006
SEQUENCE:0
DTSTAMP:20260422T123802Z
DTSTART:20260211T100000Z
DTEND:20260211T104000Z
SUMMARY:Академическая живопись
LOCATION:ГЗ 314
END:VEVENT
BEGIN:VEVENT
UID:leg5@192.168.245.71:3006
SEQUENCE:0
DTSTAMP:20260422T123802Z
DTSTART:20260211T110000Z
DTEND:20260211T124000Z
SUMMARY:Академическая живопись
LOCATION:ГЗ 314
END:VEVENT
BEGIN:VEVENT
UID:q8qx@192.168.245.71:3006
SEQUENCE:0
DTSTAMP:20260422T123802Z
DTSTART:20260211T130000Z
DTEND:20260211T144000Z
SUMMARY:История искусств
LOCATION:ГЗ 224
END:VEVENT
BEGIN:VEVENT
UID:f1a3@192.168.245.71:3006
SEQUENCE:0
DTSTAMP:20260422T123802Z
DTSTART:20260211T144000Z
DTEND:20260211T153000Z
SUMMARY:Бионика
LOCATION:ГЗ 314
END:VEVENT
BEGIN:VEVENT
UID:w2my@192.168.245.71:3006
SEQUENCE:0
DTSTAMP:20260422T123802Z
DTSTART:20260212T050000Z
DTEND:20260212T064000Z
SUMMARY:Элективная физическая культура и спорт
LOCATION:СК Секции
END:VEVENT
BEGIN:VEVENT
UID:syxe@192.168.245.71:3006
SEQUENCE:0
DTSTAMP:20260422T123802Z
DTSTART:20260212T070000Z
DTEND:20260212T084000Z
SUMMARY:Иностранный язык: Базовый курс
LOCATION:ГЗ 208
END:VEVENT
BEGIN:VEVENT
UID:uzid@192.168.245.71:3006
SEQUENCE:0
DTSTAMP:20260422T123802Z
DTSTART:20260212T090000Z
DTEND:20260212T104000Z
SUMMARY:Информатика
LOCATION:ГК-2 513
END:VEVENT
BEGIN:VEVENT
UID:ed6p@192.168.245.71:3006
SEQUENCE:0
DTSTAMP:20260422T123802Z
DTSTART:20260212T150000Z
DTEND:20260212T164000Z
SUMMARY:Физическая культура
LOCATION:ГК-2 404
END:VEVENT
BEGIN:VEVENT
UID:bizq@192.168.245.71:3006
SEQUENCE:0
DTSTAMP:20260422T123802Z
DTSTART:20260213T110000Z
DTEND:20260213T124000Z
SUMMARY:Инженерная геометрия
LOCATION:ГЗ 304
END:VEVENT
BEGIN:VEVENT
UID:89us@192.168.245.71:3006
SEQUENCE:0
DTSTAMP:20260422T123802Z
DTSTART:20260213T150000Z
DTEND:20260213T164000Z
SUMMARY:Основы российской государственности
LOCATION:ГК-2 401
END:VEVENT
BEGIN:VEVENT
UID:ge3x@192.168.245.71:3006
SEQUENCE:0
DTSTAMP:20260422T123802Z
DTSTART:20260214T070000Z
DTEND:20260214T084000Z
SUMMARY:Иностранный язык: Русский язык как иностранный
LOCATION:ГЗ 230
END:VEVENT
BEGIN:VEVENT
UID:61il@192.168.245.71:3006
SEQUENCE:0
DTSTAMP:20260422T123802Z
DTSTART:20260214T090000Z
DTEND:20260214T104000Z
SUMMARY:Иностранный язык: Русский язык как иностранный
LOCATION:ГЗ 230
END:VEVENT
END:VCALENDAR