BEGIN:VCALENDAR
VERSION:2.0
PRODID:-//spbstu.ru//ical//RU
NAME:Расписание группы 3135401/50001
X-WR-CALNAME:Расписание группы 3135401/50001
TIMEZONE-ID:Europe/Moscow
X-WR-TIMEZONE:Europe/Moscow
BEGIN:VEVENT
UID:q86h@192.168.245.71:3006
SEQUENCE:0
DTSTAMP:20260421T022413Z
DTSTART:20260420T070000Z
DTEND:20260420T084000Z
SUMMARY:Элективная физическая культура и спорт
LOCATION:СК Секции
END:VEVENT
BEGIN:VEVENT
UID:iykm@192.168.245.71:3006
SEQUENCE:0
DTSTAMP:20260421T022413Z
DTSTART:20260420T090000Z
DTEND:20260420T104000Z
SUMMARY:Информатика
LOCATION:ГЗ 303 (5)
END:VEVENT
BEGIN:VEVENT
UID:351c@192.168.245.71:3006
SEQUENCE:0
DTSTAMP:20260421T022413Z
DTSTART:20260420T110000Z
DTEND:20260420T124000Z
SUMMARY:История России
LOCATION:ГЗ 208
END:VEVENT
BEGIN:VEVENT
UID:wjks@192.168.245.71:3006
SEQUENCE:0
DTSTAMP:20260421T022413Z
DTSTART:20260421T060000Z
DTEND:20260421T064000Z
SUMMARY:Рисунок
LOCATION:ГЗ 314
END:VEVENT
BEGIN:VEVENT
UID:nxd8@192.168.245.71:3006
SEQUENCE:0
DTSTAMP:20260421T022413Z
DTSTART:20260421T070000Z
DTEND:20260421T084000Z
SUMMARY:Рисунок
LOCATION:ГЗ 314
END:VEVENT
BEGIN:VEVENT
UID:zdfp@192.168.245.71:3006
SEQUENCE:0
DTSTAMP:20260421T022413Z
DTSTART:20260421T090000Z
DTEND:20260421T104000Z
SUMMARY:Эргономика
LOCATION:ГЗ 303 (1)
END:VEVENT
BEGIN:VEVENT
UID:1pa9@192.168.245.71:3006
SEQUENCE:0
DTSTAMP:20260421T022413Z
DTSTART:20260421T110000Z
DTEND:20260421T124000Z
SUMMARY:Информатика
LOCATION:ГЗ 303 (3)
END:VEVENT
BEGIN:VEVENT
UID:ckfr@192.168.245.71:3006
SEQUENCE:0
DTSTAMP:20260421T022413Z
DTSTART:20260422T100000Z
DTEND:20260422T104000Z
SUMMARY:Академическая живопись
LOCATION:ГЗ 314
END:VEVENT
BEGIN:VEVENT
UID:y139@192.168.245.71:3006
SEQUENCE:0
DTSTAMP:20260421T022413Z
DTSTART:20260422T110000Z
DTEND:20260422T124000Z
SUMMARY:Академическая живопись
LOCATION:ГЗ 314
END:VEVENT
BEGIN:VEVENT
UID:8gjm@192.168.245.71:3006
SEQUENCE:0
DTSTAMP:20260421T022413Z
DTSTART:20260422T130000Z
DTEND:20260422T144000Z
SUMMARY:История искусств
LOCATION:ГЗ 224
END:VEVENT
BEGIN:VEVENT
UID:5fkl@192.168.245.71:3006
SEQUENCE:0
DTSTAMP:20260421T022413Z
DTSTART:20260423T050000Z
DTEND:20260423T064000Z
SUMMARY:Элективная физическая культура и спорт
LOCATION:СК Секции
END:VEVENT
BEGIN:VEVENT
UID:crkv@192.168.245.71:3006
SEQUENCE:0
DTSTAMP:20260421T022413Z
DTSTART:20260423T070000Z
DTEND:20260423T084000Z
SUMMARY:Иностранный язык: Базовый курс
LOCATION:ГЗ 208
END:VEVENT
BEGIN:VEVENT
UID:mny4@192.168.245.71:3006
SEQUENCE:0
DTSTAMP:20260421T022413Z
DTSTART:20260423T090000Z
DTEND:20260423T104000Z
SUMMARY:Информатика
LOCATION:ГК-2 513
END:VEVENT
BEGIN:VEVENT
UID:dcud@192.168.245.71:3006
SEQUENCE:0
DTSTAMP:20260421T022413Z
DTSTART:20260424T110000Z
DTEND:20260424T124000Z
SUMMARY:Инженерная геометрия
LOCATION:ГЗ 304
END:VEVENT
BEGIN:VEVENT
UID:rzo7@192.168.245.71:3006
SEQUENCE:0
DTSTAMP:20260421T022413Z
DTSTART:20260425T070000Z
DTEND:20260425T084000Z
SUMMARY:Иностранный язык: Русский язык как иностранный
LOCATION:ГЗ 230
END:VEVENT
BEGIN:VEVENT
UID:kmf4@192.168.245.71:3006
SEQUENCE:0
DTSTAMP:20260421T022413Z
DTSTART:20260425T090000Z
DTEND:20260425T104000Z
SUMMARY:Иностранный язык: Русский язык как иностранный
LOCATION:ГЗ 230
END:VEVENT
END:VCALENDAR