BEGIN:VCALENDAR
VERSION:2.0
PRODID:-//spbstu.ru//ical//RU
NAME:Расписание группы 3135401/50002
X-WR-CALNAME:Расписание группы 3135401/50002
TIMEZONE-ID:Europe/Moscow
X-WR-TIMEZONE:Europe/Moscow
BEGIN:VEVENT
UID:3c9m@192.168.245.71:3006
SEQUENCE:0
DTSTAMP:20260424T110658Z
DTSTART:20251124T070000Z
DTEND:20251124T084000Z
SUMMARY:Элективная физическая культура и спорт
LOCATION:СК Секции
END:VEVENT
BEGIN:VEVENT
UID:kkwm@192.168.245.71:3006
SEQUENCE:0
DTSTAMP:20260424T110658Z
DTSTART:20251124T090000Z
DTEND:20251124T104000Z
SUMMARY:Основы российской государственности
LOCATION:ГЗ 225
END:VEVENT
BEGIN:VEVENT
UID:funy@192.168.245.71:3006
SEQUENCE:0
DTSTAMP:20260424T110658Z
DTSTART:20251125T070000Z
DTEND:20251125T084000Z
SUMMARY:Инженерная геометрия
LOCATION:ГЗ 122
END:VEVENT
BEGIN:VEVENT
UID:6ge6@192.168.245.71:3006
SEQUENCE:0
DTSTAMP:20260424T110658Z
DTSTART:20251125T090000Z
DTEND:20251125T104000Z
SUMMARY:Введение в профессиональную деятельность
LOCATION:ГЗ 304
END:VEVENT
BEGIN:VEVENT
UID:ky3m@192.168.245.71:3006
SEQUENCE:0
DTSTAMP:20260424T110658Z
DTSTART:20251126T090000Z
DTEND:20251126T104000Z
SUMMARY:Иностранный язык: Базовый курс
LOCATION:ГЗ 252
END:VEVENT
BEGIN:VEVENT
UID:fu77@192.168.245.71:3006
SEQUENCE:0
DTSTAMP:20260424T110658Z
DTSTART:20251126T110000Z
DTEND:20251126T124000Z
SUMMARY:История искусств
LOCATION:ГЗ 283
END:VEVENT
BEGIN:VEVENT
UID:hnj2@192.168.245.71:3006
SEQUENCE:0
DTSTAMP:20260424T110658Z
DTSTART:20251127T050000Z
DTEND:20251127T064000Z
SUMMARY:Элективная физическая культура и спорт
LOCATION:СК Секции
END:VEVENT
BEGIN:VEVENT
UID:oniq@192.168.245.71:3006
SEQUENCE:0
DTSTAMP:20260424T110658Z
DTSTART:20251127T070000Z
DTEND:20251127T084000Z
SUMMARY:История России
LOCATION:ГЗ 122
END:VEVENT
BEGIN:VEVENT
UID:r1l6@192.168.245.71:3006
SEQUENCE:0
DTSTAMP:20260424T110658Z
DTSTART:20251127T090000Z
DTEND:20251127T104000Z
SUMMARY:Концепции современного естествознания
LOCATION:ГЗ 161
END:VEVENT
BEGIN:VEVENT
UID:8vx3@192.168.245.71:3006
SEQUENCE:0
DTSTAMP:20260424T110658Z
DTSTART:20251127T110000Z
DTEND:20251127T124000Z
SUMMARY:Бионика
LOCATION:ГЗ 304
END:VEVENT
BEGIN:VEVENT
UID:qqu9@192.168.245.71:3006
SEQUENCE:0
DTSTAMP:20260424T110658Z
DTSTART:20251128T110000Z
DTEND:20251128T124000Z
SUMMARY:История России
LOCATION:Мех. к. БМ
END:VEVENT
BEGIN:VEVENT
UID:g05f@192.168.245.71:3006
SEQUENCE:0
DTSTAMP:20260424T110658Z
DTSTART:20251129T070000Z
DTEND:20251129T084000Z
SUMMARY:Инженерная геометрия
LOCATION:ГЗ 304
END:VEVENT
BEGIN:VEVENT
UID:glt2@192.168.245.71:3006
SEQUENCE:0
DTSTAMP:20260424T110658Z
DTSTART:20251129T090000Z
DTEND:20251129T114000Z
SUMMARY:Академический рисунок
LOCATION:ГЗ 314
END:VEVENT
END:VCALENDAR