BEGIN:VCALENDAR
VERSION:2.0
PRODID:-//spbstu.ru//ical//RU
NAME:Расписание группы 3135401/50002
X-WR-CALNAME:Расписание группы 3135401/50002
TIMEZONE-ID:Europe/Moscow
X-WR-TIMEZONE:Europe/Moscow
BEGIN:VEVENT
UID:0snu@192.168.245.71:3006
SEQUENCE:0
DTSTAMP:20260422T134841Z
DTSTART:20260316T070000Z
DTEND:20260316T084000Z
SUMMARY:Элективная физическая культура и спорт
LOCATION:СК Секции
END:VEVENT
BEGIN:VEVENT
UID:2k9j@192.168.245.71:3006
SEQUENCE:0
DTSTAMP:20260422T134841Z
DTSTART:20260316T090000Z
DTEND:20260316T104000Z
SUMMARY:Рисунок
LOCATION:ГЗ 314
END:VEVENT
BEGIN:VEVENT
UID:pwe4@192.168.245.71:3006
SEQUENCE:0
DTSTAMP:20260422T134841Z
DTSTART:20260316T110000Z
DTEND:20260316T115000Z
SUMMARY:Рисунок
LOCATION:ГЗ 314
END:VEVENT
BEGIN:VEVENT
UID:aa81@192.168.245.71:3006
SEQUENCE:0
DTSTAMP:20260422T134841Z
DTSTART:20260317T070000Z
DTEND:20260317T084000Z
SUMMARY:Иностранный язык: Базовый курс
LOCATION:ГЗ 208
END:VEVENT
BEGIN:VEVENT
UID:289t@192.168.245.71:3006
SEQUENCE:0
DTSTAMP:20260422T134841Z
DTSTART:20260317T090000Z
DTEND:20260317T104000Z
SUMMARY:Эргономика
LOCATION:ГК-2 406
END:VEVENT
BEGIN:VEVENT
UID:tq2z@192.168.245.71:3006
SEQUENCE:0
DTSTAMP:20260422T134841Z
DTSTART:20260317T110000Z
DTEND:20260317T124000Z
SUMMARY:История России
LOCATION:ГЗ 253
END:VEVENT
BEGIN:VEVENT
UID:gdci@192.168.245.71:3006
SEQUENCE:0
DTSTAMP:20260422T134841Z
DTSTART:20260318T070000Z
DTEND:20260318T084000Z
SUMMARY:Академическая живопись
LOCATION:ГЗ 314
END:VEVENT
BEGIN:VEVENT
UID:qlb7@192.168.245.71:3006
SEQUENCE:0
DTSTAMP:20260422T134841Z
DTSTART:20260318T090000Z
DTEND:20260318T094000Z
SUMMARY:Академическая живопись
LOCATION:ГЗ 314
END:VEVENT
BEGIN:VEVENT
UID:pl14@192.168.245.71:3006
SEQUENCE:0
DTSTAMP:20260422T134841Z
DTSTART:20260318T110000Z
DTEND:20260318T124000Z
SUMMARY:Инженерная геометрия
LOCATION:ГЗ 303 (3)
END:VEVENT
BEGIN:VEVENT
UID:5bvy@192.168.245.71:3006
SEQUENCE:0
DTSTAMP:20260422T134841Z
DTSTART:20260318T130000Z
DTEND:20260318T144000Z
SUMMARY:История искусств
LOCATION:ГЗ 224
END:VEVENT
BEGIN:VEVENT
UID:mjac@192.168.245.71:3006
SEQUENCE:0
DTSTAMP:20260422T134841Z
DTSTART:20260319T050000Z
DTEND:20260319T064000Z
SUMMARY:Элективная физическая культура и спорт
LOCATION:СК Секции
END:VEVENT
BEGIN:VEVENT
UID:sfmk@192.168.245.71:3006
SEQUENCE:0
DTSTAMP:20260422T134841Z
DTSTART:20260319T070000Z
DTEND:20260319T084000Z
SUMMARY:Информатика
LOCATION:ГЗ 303 (5)
END:VEVENT
BEGIN:VEVENT
UID:nkmc@192.168.245.71:3006
SEQUENCE:0
DTSTAMP:20260422T134841Z
DTSTART:20260319T090000Z
DTEND:20260319T104000Z
SUMMARY:Информатика
LOCATION:ГК-2 513
END:VEVENT
BEGIN:VEVENT
UID:3xra@192.168.245.71:3006
SEQUENCE:0
DTSTAMP:20260422T134841Z
DTSTART:20260320T070000Z
DTEND:20260320T084000Z
SUMMARY:История России
LOCATION:ГЗ 329
END:VEVENT
BEGIN:VEVENT
UID:sidj@192.168.245.71:3006
SEQUENCE:0
DTSTAMP:20260422T134841Z
DTSTART:20260320T090000Z
DTEND:20260320T104000Z
SUMMARY:Экономическая культура
LOCATION:ГЗ 280
END:VEVENT
BEGIN:VEVENT
UID:9mdv@192.168.245.71:3006
SEQUENCE:0
DTSTAMP:20260422T134841Z
DTSTART:20260321T070000Z
DTEND:20260321T084000Z
SUMMARY:Иностранный язык: Русский язык как иностранный
LOCATION:ГЗ 230
END:VEVENT
BEGIN:VEVENT
UID:tjhf@192.168.245.71:3006
SEQUENCE:0
DTSTAMP:20260422T134841Z
DTSTART:20260321T090000Z
DTEND:20260321T104000Z
SUMMARY:Иностранный язык: Русский язык как иностранный
LOCATION:ГЗ 230
END:VEVENT
END:VCALENDAR