BEGIN:VCALENDAR
VERSION:2.0
PRODID:-//spbstu.ru//ical//RU
NAME:Расписание группы 3135401/50002
X-WR-CALNAME:Расписание группы 3135401/50002
TIMEZONE-ID:Europe/Moscow
X-WR-TIMEZONE:Europe/Moscow
BEGIN:VEVENT
UID:fkwf@192.168.245.71:3006
SEQUENCE:0
DTSTAMP:20260422T060200Z
DTSTART:20260330T070000Z
DTEND:20260330T084000Z
SUMMARY:Элективная физическая культура и спорт
LOCATION:СК Секции
END:VEVENT
BEGIN:VEVENT
UID:g2ic@192.168.245.71:3006
SEQUENCE:0
DTSTAMP:20260422T060200Z
DTSTART:20260330T090000Z
DTEND:20260330T104000Z
SUMMARY:Рисунок
LOCATION:ГЗ 314
END:VEVENT
BEGIN:VEVENT
UID:u0er@192.168.245.71:3006
SEQUENCE:0
DTSTAMP:20260422T060200Z
DTSTART:20260330T110000Z
DTEND:20260330T115000Z
SUMMARY:Рисунок
LOCATION:ГЗ 314
END:VEVENT
BEGIN:VEVENT
UID:dxb9@192.168.245.71:3006
SEQUENCE:0
DTSTAMP:20260422T060200Z
DTSTART:20260331T070000Z
DTEND:20260331T084000Z
SUMMARY:Иностранный язык: Базовый курс
LOCATION:ГЗ 208
END:VEVENT
BEGIN:VEVENT
UID:f0kv@192.168.245.71:3006
SEQUENCE:0
DTSTAMP:20260422T060200Z
DTSTART:20260331T090000Z
DTEND:20260331T104000Z
SUMMARY:Эргономика
LOCATION:ГК-2 406
END:VEVENT
BEGIN:VEVENT
UID:ra6y@192.168.245.71:3006
SEQUENCE:0
DTSTAMP:20260422T060200Z
DTSTART:20260331T110000Z
DTEND:20260331T124000Z
SUMMARY:История России
LOCATION:ГЗ 253
END:VEVENT
BEGIN:VEVENT
UID:gkwx@192.168.245.71:3006
SEQUENCE:0
DTSTAMP:20260422T060200Z
DTSTART:20260401T070000Z
DTEND:20260401T084000Z
SUMMARY:Академическая живопись
LOCATION:ГЗ 314
END:VEVENT
BEGIN:VEVENT
UID:8ap4@192.168.245.71:3006
SEQUENCE:0
DTSTAMP:20260422T060200Z
DTSTART:20260401T090000Z
DTEND:20260401T094000Z
SUMMARY:Академическая живопись
LOCATION:ГЗ 314
END:VEVENT
BEGIN:VEVENT
UID:hf4q@192.168.245.71:3006
SEQUENCE:0
DTSTAMP:20260422T060200Z
DTSTART:20260401T110000Z
DTEND:20260401T124000Z
SUMMARY:Инженерная геометрия
LOCATION:ГЗ 303 (3)
END:VEVENT
BEGIN:VEVENT
UID:4jnn@192.168.245.71:3006
SEQUENCE:0
DTSTAMP:20260422T060200Z
DTSTART:20260401T130000Z
DTEND:20260401T144000Z
SUMMARY:История искусств
LOCATION:ГЗ 224
END:VEVENT
BEGIN:VEVENT
UID:ehdw@192.168.245.71:3006
SEQUENCE:0
DTSTAMP:20260422T060200Z
DTSTART:20260401T150000Z
DTEND:20260401T164000Z
SUMMARY:Концепции современного естествознания
LOCATION:ГЗ 283
END:VEVENT
BEGIN:VEVENT
UID:850c@192.168.245.71:3006
SEQUENCE:0
DTSTAMP:20260422T060200Z
DTSTART:20260402T050000Z
DTEND:20260402T064000Z
SUMMARY:Элективная физическая культура и спорт
LOCATION:СК Секции
END:VEVENT
BEGIN:VEVENT
UID:5zm0@192.168.245.71:3006
SEQUENCE:0
DTSTAMP:20260422T060200Z
DTSTART:20260402T070000Z
DTEND:20260402T084000Z
SUMMARY:Информатика
LOCATION:ГЗ 303 (5)
END:VEVENT
BEGIN:VEVENT
UID:2v1a@192.168.245.71:3006
SEQUENCE:0
DTSTAMP:20260422T060200Z
DTSTART:20260402T090000Z
DTEND:20260402T104000Z
SUMMARY:Информатика
LOCATION:ГК-2 513
END:VEVENT
BEGIN:VEVENT
UID:pvdq@192.168.245.71:3006
SEQUENCE:0
DTSTAMP:20260422T060200Z
DTSTART:20260403T070000Z
DTEND:20260403T084000Z
SUMMARY:История России
LOCATION:ГЗ 329
END:VEVENT
BEGIN:VEVENT
UID:2g31@192.168.245.71:3006
SEQUENCE:0
DTSTAMP:20260422T060200Z
DTSTART:20260403T090000Z
DTEND:20260403T104000Z
SUMMARY:Экономическая культура
LOCATION:ГЗ 280
END:VEVENT
BEGIN:VEVENT
UID:2y1h@192.168.245.71:3006
SEQUENCE:0
DTSTAMP:20260422T060200Z
DTSTART:20260404T070000Z
DTEND:20260404T084000Z
SUMMARY:Иностранный язык: Русский язык как иностранный
LOCATION:ГЗ 230
END:VEVENT
BEGIN:VEVENT
UID:2lws@192.168.245.71:3006
SEQUENCE:0
DTSTAMP:20260422T060200Z
DTSTART:20260404T090000Z
DTEND:20260404T104000Z
SUMMARY:Иностранный язык: Русский язык как иностранный
LOCATION:ГЗ 230
END:VEVENT
END:VCALENDAR