BEGIN:VCALENDAR
VERSION:2.0
PRODID:-//spbstu.ru//ical//RU
NAME:Расписание группы 3135401/50002
X-WR-CALNAME:Расписание группы 3135401/50002
TIMEZONE-ID:Europe/Moscow
X-WR-TIMEZONE:Europe/Moscow
BEGIN:VEVENT
UID:fshp@192.168.245.71:3006
SEQUENCE:0
DTSTAMP:20260422T154700Z
DTSTART:20260310T070000Z
DTEND:20260310T084000Z
SUMMARY:Иностранный язык: Базовый курс
LOCATION:ГЗ 208
END:VEVENT
BEGIN:VEVENT
UID:cp2v@192.168.245.71:3006
SEQUENCE:0
DTSTAMP:20260422T154700Z
DTSTART:20260310T090000Z
DTEND:20260310T104000Z
SUMMARY:Информатика
LOCATION:ГЗ 303 (3)
END:VEVENT
BEGIN:VEVENT
UID:kt3j@192.168.245.71:3006
SEQUENCE:0
DTSTAMP:20260422T154700Z
DTSTART:20260310T110000Z
DTEND:20260310T124000Z
SUMMARY:История России
LOCATION:ГЗ 253
END:VEVENT
BEGIN:VEVENT
UID:y1ut@192.168.245.71:3006
SEQUENCE:0
DTSTAMP:20260422T154700Z
DTSTART:20260311T070000Z
DTEND:20260311T084000Z
SUMMARY:Академическая живопись
LOCATION:ГЗ 314
END:VEVENT
BEGIN:VEVENT
UID:w6sc@192.168.245.71:3006
SEQUENCE:0
DTSTAMP:20260422T154700Z
DTSTART:20260311T090000Z
DTEND:20260311T094000Z
SUMMARY:Академическая живопись
LOCATION:ГЗ 314
END:VEVENT
BEGIN:VEVENT
UID:i6i1@192.168.245.71:3006
SEQUENCE:0
DTSTAMP:20260422T154700Z
DTSTART:20260311T110000Z
DTEND:20260311T124000Z
SUMMARY:Инженерная геометрия
LOCATION:ГЗ 303 (3)
END:VEVENT
BEGIN:VEVENT
UID:7brk@192.168.245.71:3006
SEQUENCE:0
DTSTAMP:20260422T154700Z
DTSTART:20260311T130000Z
DTEND:20260311T144000Z
SUMMARY:История искусств
LOCATION:ГЗ 224
END:VEVENT
BEGIN:VEVENT
UID:3d03@192.168.245.71:3006
SEQUENCE:0
DTSTAMP:20260422T154700Z
DTSTART:20260312T050000Z
DTEND:20260312T064000Z
SUMMARY:Элективная физическая культура и спорт
LOCATION:СК Секции
END:VEVENT
BEGIN:VEVENT
UID:wft6@192.168.245.71:3006
SEQUENCE:0
DTSTAMP:20260422T154700Z
DTSTART:20260312T070000Z
DTEND:20260312T084000Z
SUMMARY:Информатика
LOCATION:ГЗ 303 (5)
END:VEVENT
BEGIN:VEVENT
UID:esmx@192.168.245.71:3006
SEQUENCE:0
DTSTAMP:20260422T154700Z
DTSTART:20260312T090000Z
DTEND:20260312T104000Z
SUMMARY:Информатика
LOCATION:ГК-2 513
END:VEVENT
BEGIN:VEVENT
UID:3cdt@192.168.245.71:3006
SEQUENCE:0
DTSTAMP:20260422T154700Z
DTSTART:20260314T070000Z
DTEND:20260314T084000Z
SUMMARY:Иностранный язык: Русский язык как иностранный
LOCATION:ГЗ 230
END:VEVENT
BEGIN:VEVENT
UID:bcqs@192.168.245.71:3006
SEQUENCE:0
DTSTAMP:20260422T154700Z
DTSTART:20260314T090000Z
DTEND:20260314T104000Z
SUMMARY:Иностранный язык: Русский язык как иностранный
LOCATION:ГЗ 230
END:VEVENT
END:VCALENDAR