BEGIN:VCALENDAR
VERSION:2.0
PRODID:-//spbstu.ru//ical//RU
NAME:Расписание группы 3135401/50003
X-WR-CALNAME:Расписание группы 3135401/50003
TIMEZONE-ID:Europe/Moscow
X-WR-TIMEZONE:Europe/Moscow
BEGIN:VEVENT
UID:mi6h@192.168.245.71:3006
SEQUENCE:0
DTSTAMP:20260424T155851Z
DTSTART:20251201T070000Z
DTEND:20251201T084000Z
SUMMARY:Элективная физическая культура и спорт
LOCATION:СК Секции
END:VEVENT
BEGIN:VEVENT
UID:4xbr@192.168.245.71:3006
SEQUENCE:0
DTSTAMP:20260424T155851Z
DTSTART:20251201T090000Z
DTEND:20251201T104000Z
SUMMARY:Основы российской государственности
LOCATION:ГЗ 225
END:VEVENT
BEGIN:VEVENT
UID:dyl1@192.168.245.71:3006
SEQUENCE:0
DTSTAMP:20260424T155851Z
DTSTART:20251201T130000Z
DTEND:20251201T144000Z
SUMMARY:Иностранный язык: Русский язык как иностранный
LOCATION:ГЗ 226
END:VEVENT
BEGIN:VEVENT
UID:2fji@192.168.245.71:3006
SEQUENCE:0
DTSTAMP:20260424T155851Z
DTSTART:20251202T090000Z
DTEND:20251202T104000Z
SUMMARY:Иностранный язык: Базовый курс
LOCATION:ГК-2 309
END:VEVENT
BEGIN:VEVENT
UID:6kix@192.168.245.71:3006
SEQUENCE:0
DTSTAMP:20260424T155851Z
DTSTART:20251202T110000Z
DTEND:20251202T124000Z
SUMMARY:Введение в профессиональную деятельность
LOCATION:ГЗ 304
END:VEVENT
BEGIN:VEVENT
UID:r2qv@192.168.245.71:3006
SEQUENCE:0
DTSTAMP:20260424T155851Z
DTSTART:20251203T110000Z
DTEND:20251203T124000Z
SUMMARY:История искусств
LOCATION:ГЗ 122
END:VEVENT
BEGIN:VEVENT
UID:a110@192.168.245.71:3006
SEQUENCE:0
DTSTAMP:20260424T155851Z
DTSTART:20251203T130000Z
DTEND:20251203T144000Z
SUMMARY:Основы российской государственности
LOCATION:ГЗ 215
END:VEVENT
BEGIN:VEVENT
UID:f1om@192.168.245.71:3006
SEQUENCE:0
DTSTAMP:20260424T155851Z
DTSTART:20251204T050000Z
DTEND:20251204T064000Z
SUMMARY:Элективная физическая культура и спорт
LOCATION:СК Секции
END:VEVENT
BEGIN:VEVENT
UID:cazm@192.168.245.71:3006
SEQUENCE:0
DTSTAMP:20260424T155851Z
DTSTART:20251204T070000Z
DTEND:20251204T084000Z
SUMMARY:История России
LOCATION:ГЗ 244
END:VEVENT
BEGIN:VEVENT
UID:1scr@192.168.245.71:3006
SEQUENCE:0
DTSTAMP:20260424T155851Z
DTSTART:20251204T090000Z
DTEND:20251204T104000Z
SUMMARY:Бионика
LOCATION:ГЗ 304
END:VEVENT
BEGIN:VEVENT
UID:dz0f@192.168.245.71:3006
SEQUENCE:0
DTSTAMP:20260424T155851Z
DTSTART:20251205T110000Z
DTEND:20251205T124000Z
SUMMARY:Бионика
LOCATION:ГЗ 215
END:VEVENT
BEGIN:VEVENT
UID:6duq@192.168.245.71:3006
SEQUENCE:0
DTSTAMP:20260424T155851Z
DTSTART:20251205T130000Z
DTEND:20251205T144000Z
SUMMARY:Творческие семестры
LOCATION:ГЗ Белый зал
END:VEVENT
BEGIN:VEVENT
UID:vlpq@192.168.245.71:3006
SEQUENCE:0
DTSTAMP:20260424T155851Z
DTSTART:20251206T060000Z
DTEND:20251206T084000Z
SUMMARY:Академический рисунок
LOCATION:ГЗ 314
END:VEVENT
BEGIN:VEVENT
UID:2blw@192.168.245.71:3006
SEQUENCE:0
DTSTAMP:20260424T155851Z
DTSTART:20251206T090000Z
DTEND:20251206T104000Z
SUMMARY:Инженерная геометрия
LOCATION:ГЗ 304
END:VEVENT
BEGIN:VEVENT
UID:tztf@192.168.245.71:3006
SEQUENCE:0
DTSTAMP:20260424T155851Z
DTSTART:20251206T110000Z
DTEND:20251206T124000Z
SUMMARY:Иностранный язык: Русский язык как иностранный
LOCATION:3 к. 211
END:VEVENT
END:VCALENDAR