BEGIN:VCALENDAR
VERSION:2.0
PRODID:-//spbstu.ru//ical//RU
NAME:Расписание группы 3140704/50101
X-WR-CALNAME:Расписание группы 3140704/50101
TIMEZONE-ID:Europe/Moscow
X-WR-TIMEZONE:Europe/Moscow
BEGIN:VEVENT
UID:of2u@192.168.245.71:3006
SEQUENCE:0
DTSTAMP:20260424T050613Z
DTSTART:20251027T070000Z
DTEND:20251027T085500Z
SUMMARY:История и методология науки
LOCATION:ГЗ 301 К
END:VEVENT
BEGIN:VEVENT
UID:pb50@192.168.245.71:3006
SEQUENCE:0
DTSTAMP:20260424T050613Z
DTSTART:20251027T090000Z
DTEND:20251027T104500Z
SUMMARY:Территориальное планирование и градостроительное проектирование
LOCATION:ГЗ 301 К
END:VEVENT
BEGIN:VEVENT
UID:pw84@192.168.245.71:3006
SEQUENCE:0
DTSTAMP:20260424T050613Z
DTSTART:20251027T110000Z
DTEND:20251027T124500Z
SUMMARY:Территориальное планирование и градостроительное проектирование
LOCATION:ГЗ 301 К
END:VEVENT
BEGIN:VEVENT
UID:yacn@192.168.245.71:3006
SEQUENCE:0
DTSTAMP:20260424T050613Z
DTSTART:20251027T130000Z
DTEND:20251027T144000Z
SUMMARY:Иностранный язык в профессиональной коммуникации\, Английский
LOCATION:ГЗ 230
END:VEVENT
BEGIN:VEVENT
UID:tst3@192.168.245.71:3006
SEQUENCE:0
DTSTAMP:20260424T050613Z
DTSTART:20251029T070000Z
DTEND:20251029T085000Z
SUMMARY:Цифровое моделирование зданий и сооружений
LOCATION:НИК В2.22 (1)
END:VEVENT
BEGIN:VEVENT
UID:6i80@192.168.245.71:3006
SEQUENCE:0
DTSTAMP:20260424T050613Z
DTSTART:20251029T090000Z
DTEND:20251029T104000Z
SUMMARY:Территориальное планирование и градостроительное проектирование
LOCATION:ГЗ 301 К
END:VEVENT
BEGIN:VEVENT
UID:mc72@192.168.245.71:3006
SEQUENCE:0
DTSTAMP:20260424T050613Z
DTSTART:20251029T110000Z
DTEND:20251029T124000Z
SUMMARY:Территориальное планирование и градостроительное проектирование
LOCATION:ГЗ 301 К
END:VEVENT
BEGIN:VEVENT
UID:p8q4@192.168.245.71:3006
SEQUENCE:0
DTSTAMP:20260424T050613Z
DTSTART:20251029T130000Z
DTEND:20251029T145000Z
SUMMARY:Актуальные проблемы истории и теории архитектуры и градостроительс
 тва
LOCATION:НИК Г3.42
END:VEVENT
BEGIN:VEVENT
UID:opxz@192.168.245.71:3006
SEQUENCE:0
DTSTAMP:20260424T050613Z
DTSTART:20251030T110000Z
DTEND:20251030T124000Z
SUMMARY:Цифровые ресурсы в научном исследовании
LOCATION:DL Дистанционно
END:VEVENT
BEGIN:VEVENT
UID:tr68@192.168.245.71:3006
SEQUENCE:0
DTSTAMP:20260424T050613Z
DTSTART:20251031T090000Z
DTEND:20251031T104000Z
SUMMARY:Теория градостроительства
LOCATION:Выездное на территории Заказчика
END:VEVENT
BEGIN:VEVENT
UID:ypo9@192.168.245.71:3006
SEQUENCE:0
DTSTAMP:20260424T050613Z
DTSTART:20251031T110000Z
DTEND:20251031T124000Z
SUMMARY:Правовое обеспечение градостроительной деятельности
LOCATION:Выездное на территории Заказчика
END:VEVENT
BEGIN:VEVENT
UID:y288@192.168.245.71:3006
SEQUENCE:0
DTSTAMP:20260424T050613Z
DTSTART:20251031T130000Z
DTEND:20251031T144000Z
SUMMARY:Правовое обеспечение градостроительной деятельности
LOCATION:Выездное на территории Заказчика
END:VEVENT
END:VCALENDAR