BEGIN:VCALENDAR
VERSION:2.0
PRODID:-//spbstu.ru//ical//RU
NAME:Расписание группы 3140704/50101
X-WR-CALNAME:Расписание группы 3140704/50101
TIMEZONE-ID:Europe/Moscow
X-WR-TIMEZONE:Europe/Moscow
BEGIN:VEVENT
UID:uyfq@192.168.245.71:3006
SEQUENCE:0
DTSTAMP:20260423T182634Z
DTSTART:20251124T070000Z
DTEND:20251124T085500Z
SUMMARY:История и методология науки
LOCATION:ГЗ 301 К
END:VEVENT
BEGIN:VEVENT
UID:zykh@192.168.245.71:3006
SEQUENCE:0
DTSTAMP:20260423T182634Z
DTSTART:20251124T090000Z
DTEND:20251124T104500Z
SUMMARY:Территориальное планирование и градостроительное проектирование
LOCATION:ГЗ 301 К
END:VEVENT
BEGIN:VEVENT
UID:vvr0@192.168.245.71:3006
SEQUENCE:0
DTSTAMP:20260423T182634Z
DTSTART:20251124T110000Z
DTEND:20251124T124500Z
SUMMARY:Территориальное планирование и градостроительное проектирование
LOCATION:ГЗ 301 К
END:VEVENT
BEGIN:VEVENT
UID:xp67@192.168.245.71:3006
SEQUENCE:0
DTSTAMP:20260423T182634Z
DTSTART:20251124T130000Z
DTEND:20251124T144000Z
SUMMARY:Иностранный язык в профессиональной коммуникации\, Английский
LOCATION:ГЗ 230
END:VEVENT
BEGIN:VEVENT
UID:94xd@192.168.245.71:3006
SEQUENCE:0
DTSTAMP:20260423T182634Z
DTSTART:20251126T070000Z
DTEND:20251126T084000Z
SUMMARY:Цифровое моделирование зданий и сооружений
LOCATION:НИК В2.22 (1)
END:VEVENT
BEGIN:VEVENT
UID:xru3@192.168.245.71:3006
SEQUENCE:0
DTSTAMP:20260423T182634Z
DTSTART:20251126T090000Z
DTEND:20251126T104000Z
SUMMARY:Территориальное планирование и градостроительное проектирование
LOCATION:ГЗ 301 К
END:VEVENT
BEGIN:VEVENT
UID:pvn3@192.168.245.71:3006
SEQUENCE:0
DTSTAMP:20260423T182634Z
DTSTART:20251126T110000Z
DTEND:20251126T124000Z
SUMMARY:Территориальное планирование и градостроительное проектирование
LOCATION:ГЗ 301 К
END:VEVENT
BEGIN:VEVENT
UID:xjzm@192.168.245.71:3006
SEQUENCE:0
DTSTAMP:20260423T182634Z
DTSTART:20251126T130000Z
DTEND:20251126T144000Z
SUMMARY:Актуальные проблемы истории и теории архитектуры и градостроительс
 тва
LOCATION:НИК Г3.42
END:VEVENT
BEGIN:VEVENT
UID:5lh4@192.168.245.71:3006
SEQUENCE:0
DTSTAMP:20260423T182634Z
DTSTART:20251127T110000Z
DTEND:20251127T124000Z
SUMMARY:Цифровые ресурсы в научном исследовании
LOCATION:DL Дистанционно
END:VEVENT
BEGIN:VEVENT
UID:x0to@192.168.245.71:3006
SEQUENCE:0
DTSTAMP:20260423T182634Z
DTSTART:20251128T090000Z
DTEND:20251128T104000Z
SUMMARY:Теория градостроительства
LOCATION:Выездное на территории Заказчика
END:VEVENT
BEGIN:VEVENT
UID:tg7j@192.168.245.71:3006
SEQUENCE:0
DTSTAMP:20260423T182634Z
DTSTART:20251128T110000Z
DTEND:20251128T124000Z
SUMMARY:Правовое обеспечение градостроительной деятельности
LOCATION:Выездное на территории Заказчика
END:VEVENT
BEGIN:VEVENT
UID:k5xp@192.168.245.71:3006
SEQUENCE:0
DTSTAMP:20260423T182634Z
DTSTART:20251128T130000Z
DTEND:20251128T144000Z
SUMMARY:Правовое обеспечение градостроительной деятельности
LOCATION:Выездное на территории Заказчика
END:VEVENT
END:VCALENDAR