BEGIN:VCALENDAR
VERSION:2.0
PRODID:-//spbstu.ru//ical//RU
NAME:Расписание группы 3140704/50101
X-WR-CALNAME:Расписание группы 3140704/50101
TIMEZONE-ID:Europe/Moscow
X-WR-TIMEZONE:Europe/Moscow
BEGIN:VEVENT
UID:afdd@192.168.245.71:3006
SEQUENCE:0
DTSTAMP:20260421T110439Z
DTSTART:20260427T090000Z
DTEND:20260427T104000Z
SUMMARY:Ландшафтная инфраструктура
LOCATION:DL Дистанционно
END:VEVENT
BEGIN:VEVENT
UID:lekj@192.168.245.71:3006
SEQUENCE:0
DTSTAMP:20260421T110439Z
DTSTART:20260427T110000Z
DTEND:20260427T124000Z
SUMMARY:Специальные разделы диссертационного исследования
LOCATION:DL Дистанционно
END:VEVENT
BEGIN:VEVENT
UID:qbdc@192.168.245.71:3006
SEQUENCE:0
DTSTAMP:20260421T110439Z
DTSTART:20260427T130000Z
DTEND:20260427T144000Z
SUMMARY:Специальные разделы диссертационного исследования
LOCATION:DL Дистанционно
END:VEVENT
BEGIN:VEVENT
UID:i1my@192.168.245.71:3006
SEQUENCE:0
DTSTAMP:20260421T110439Z
DTSTART:20260429T070000Z
DTEND:20260429T084000Z
SUMMARY:Методика пространственного анализа
LOCATION:ГЗ 301 К
END:VEVENT
BEGIN:VEVENT
UID:kfb7@192.168.245.71:3006
SEQUENCE:0
DTSTAMP:20260421T110439Z
DTSTART:20260429T090000Z
DTEND:20260429T104000Z
SUMMARY:Методика пространственного анализа
LOCATION:ГЗ 301 К
END:VEVENT
BEGIN:VEVENT
UID:nalw@192.168.245.71:3006
SEQUENCE:0
DTSTAMP:20260421T110439Z
DTSTART:20260430T070000Z
DTEND:20260430T084000Z
SUMMARY:Информационные технологии в градостроительстве
LOCATION:ГЗ 301 К
END:VEVENT
BEGIN:VEVENT
UID:yne3@192.168.245.71:3006
SEQUENCE:0
DTSTAMP:20260421T110439Z
DTSTART:20260430T090000Z
DTEND:20260430T104000Z
SUMMARY:Территориальное планирование и градостроительное проектирование
LOCATION:ГЗ 301 К
END:VEVENT
BEGIN:VEVENT
UID:jw4f@192.168.245.71:3006
SEQUENCE:0
DTSTAMP:20260421T110439Z
DTSTART:20260430T110000Z
DTEND:20260430T124000Z
SUMMARY:Территориальное планирование и градостроительное проектирование
LOCATION:ГЗ 301 К
END:VEVENT
END:VCALENDAR