BEGIN:VCALENDAR
VERSION:2.0
PRODID:-//spbstu.ru//ical//RU
NAME:Расписание группы 3140801/50601
X-WR-CALNAME:Расписание группы 3140801/50601
TIMEZONE-ID:Europe/Moscow
X-WR-TIMEZONE:Europe/Moscow
BEGIN:VEVENT
UID:6zc5@192.168.245.71:3006
SEQUENCE:0
DTSTAMP:20260425T134646Z
DTSTART:20250929T090000Z
DTEND:20250929T105500Z
SUMMARY:Цифровое моделирование зданий и сооружений
LOCATION:ГК-2 504
END:VEVENT
BEGIN:VEVENT
UID:rc9t@192.168.245.71:3006
SEQUENCE:0
DTSTAMP:20260425T134646Z
DTSTART:20250929T110000Z
DTEND:20250929T124000Z
SUMMARY:Цифровое моделирование зданий и сооружений
LOCATION:ГК-2 504
END:VEVENT
BEGIN:VEVENT
UID:oam9@192.168.245.71:3006
SEQUENCE:0
DTSTAMP:20260425T134646Z
DTSTART:20250929T130000Z
DTEND:20250929T144000Z
SUMMARY:Иностранный язык в профессиональной коммуникации\, Английский
LOCATION:ГК-2 405
END:VEVENT
BEGIN:VEVENT
UID:r5jj@192.168.245.71:3006
SEQUENCE:0
DTSTAMP:20260425T134646Z
DTSTART:20251001T090000Z
DTEND:20251001T104000Z
SUMMARY:Цифровые ресурсы в научном исследовании
LOCATION:DL Дистанционно
END:VEVENT
BEGIN:VEVENT
UID:0bgo@192.168.245.71:3006
SEQUENCE:0
DTSTAMP:20260425T134646Z
DTSTART:20251002T070000Z
DTEND:20251002T084000Z
SUMMARY:Математическое моделирование
LOCATION:ГК 216
END:VEVENT
BEGIN:VEVENT
UID:ndiu@192.168.245.71:3006
SEQUENCE:0
DTSTAMP:20260425T134646Z
DTSTART:20251002T090000Z
DTEND:20251002T104500Z
SUMMARY:Управление рисками в инвестиционно-строительных проектах
LOCATION:ГК-2 504
END:VEVENT
BEGIN:VEVENT
UID:2m73@192.168.245.71:3006
SEQUENCE:0
DTSTAMP:20260425T134646Z
DTSTART:20251002T110000Z
DTEND:20251002T124000Z
SUMMARY:Технологические тренды в строительстве
LOCATION:ГК-2 405
END:VEVENT
END:VCALENDAR