BEGIN:VCALENDAR
VERSION:2.0
PRODID:-//spbstu.ru//ical//RU
NAME:Расписание группы 3140801/50602
X-WR-CALNAME:Расписание группы 3140801/50602
TIMEZONE-ID:Europe/Moscow
X-WR-TIMEZONE:Europe/Moscow
BEGIN:VEVENT
UID:072e@192.168.245.71:3006
SEQUENCE:0
DTSTAMP:20260426T021411Z
DTSTART:20251027T090000Z
DTEND:20251027T105500Z
SUMMARY:Цифровое моделирование зданий и сооружений
LOCATION:ГК-2 504
END:VEVENT
BEGIN:VEVENT
UID:lyc1@192.168.245.71:3006
SEQUENCE:0
DTSTAMP:20260426T021411Z
DTSTART:20251027T110000Z
DTEND:20251027T124000Z
SUMMARY:Цифровое моделирование зданий и сооружений
LOCATION:ГК-2 504
END:VEVENT
BEGIN:VEVENT
UID:731j@192.168.245.71:3006
SEQUENCE:0
DTSTAMP:20260426T021411Z
DTSTART:20251027T130000Z
DTEND:20251027T144000Z
SUMMARY:Иностранный язык в профессиональной коммуникации\, Английский
LOCATION:ГК-2 405
END:VEVENT
BEGIN:VEVENT
UID:vrn0@192.168.245.71:3006
SEQUENCE:0
DTSTAMP:20260426T021411Z
DTSTART:20251029T090000Z
DTEND:20251029T104000Z
SUMMARY:Цифровые ресурсы в научном исследовании
LOCATION:DL Дистанционно
END:VEVENT
BEGIN:VEVENT
UID:ptcd@192.168.245.71:3006
SEQUENCE:0
DTSTAMP:20260426T021411Z
DTSTART:20251030T070000Z
DTEND:20251030T084000Z
SUMMARY:Математическое моделирование
LOCATION:ГК 216
END:VEVENT
BEGIN:VEVENT
UID:al8v@192.168.245.71:3006
SEQUENCE:0
DTSTAMP:20260426T021411Z
DTSTART:20251030T090000Z
DTEND:20251030T104500Z
SUMMARY:Управление рисками в инвестиционно-строительных проектах
LOCATION:ГК-2 504
END:VEVENT
BEGIN:VEVENT
UID:d6jy@192.168.245.71:3006
SEQUENCE:0
DTSTAMP:20260426T021411Z
DTSTART:20251030T110000Z
DTEND:20251030T124000Z
SUMMARY:Технологические тренды в строительстве
LOCATION:ГК-2 405
END:VEVENT
BEGIN:VEVENT
UID:0ncn@192.168.245.71:3006
SEQUENCE:0
DTSTAMP:20260426T021411Z
DTSTART:20251030T130000Z
DTEND:20251030T144000Z
SUMMARY:Управление недвижимостью
LOCATION:ГК-2 207а
END:VEVENT
END:VCALENDAR