BEGIN:VCALENDAR
VERSION:2.0
PRODID:-//spbstu.ru//ical//RU
NAME:Расписание группы 3140801/51102
X-WR-CALNAME:Расписание группы 3140801/51102
TIMEZONE-ID:Europe/Moscow
X-WR-TIMEZONE:Europe/Moscow
BEGIN:VEVENT
UID:wzpu@192.168.245.71:3006
SEQUENCE:0
DTSTAMP:20260425T032445Z
DTSTART:20251229T063000Z
DTEND:20251229T085000Z
SUMMARY:Цифровые ресурсы в научном исследовании
LOCATION:ГК-2 210
END:VEVENT
BEGIN:VEVENT
UID:defx@192.168.245.71:3006
SEQUENCE:0
DTSTAMP:20260425T032445Z
DTSTART:20251229T090000Z
DTEND:20251229T104000Z
SUMMARY:НИР
LOCATION:ГК 123б
END:VEVENT
BEGIN:VEVENT
UID:fx58@192.168.245.71:3006
SEQUENCE:0
DTSTAMP:20260425T032445Z
DTSTART:20251229T110000Z
DTEND:20251229T130000Z
SUMMARY:НИР
LOCATION:ГК 123б
END:VEVENT
END:VCALENDAR