BEGIN:VCALENDAR
VERSION:2.0
PRODID:-//spbstu.ru//ical//RU
NAME:Расписание группы 3140801/51201
X-WR-CALNAME:Расписание группы 3140801/51201
TIMEZONE-ID:Europe/Moscow
X-WR-TIMEZONE:Europe/Moscow
BEGIN:VEVENT
UID:8uxt@192.168.245.71:3006
SEQUENCE:0
DTSTAMP:20260424T202345Z
DTSTART:20251007T070000Z
DTEND:20251007T085000Z
SUMMARY:Цифровое  моделирование зданий и сооружений (на английском языке)
LOCATION:ГК-2 404
END:VEVENT
BEGIN:VEVENT
UID:z9n4@192.168.245.71:3006
SEQUENCE:0
DTSTAMP:20260424T202345Z
DTSTART:20251007T090000Z
DTEND:20251007T105000Z
SUMMARY:Иностранный язык в профессиональной коммуникации (на английском яз
 ыке)\, Английский
LOCATION:ГК-2 502
END:VEVENT
BEGIN:VEVENT
UID:e9rb@192.168.245.71:3006
SEQUENCE:0
DTSTAMP:20260424T202345Z
DTSTART:20251007T110000Z
DTEND:20251007T124000Z
SUMMARY:Математическое моделирование (на английском языке)
LOCATION:ГК 216
END:VEVENT
BEGIN:VEVENT
UID:u62h@192.168.245.71:3006
SEQUENCE:0
DTSTAMP:20260424T202345Z
DTSTART:20251007T130000Z
DTEND:20251007T144000Z
SUMMARY:Водоснабжение и водоэффективность (на английском языке)
LOCATION:ГК-2 508
END:VEVENT
BEGIN:VEVENT
UID:4705@192.168.245.71:3006
SEQUENCE:0
DTSTAMP:20260424T202345Z
DTSTART:20251008T070000Z
DTEND:20251008T084000Z
SUMMARY:Методология научных исследований (на английском языке)
LOCATION:DL Дистанционно
END:VEVENT
BEGIN:VEVENT
UID:1xpd@192.168.245.71:3006
SEQUENCE:0
DTSTAMP:20260424T202345Z
DTSTART:20251008T090000Z
DTEND:20251008T104000Z
SUMMARY:Международные коммуникации в строительном бизнесе (на английском я
 зыке)
LOCATION:DL Дистанционно
END:VEVENT
BEGIN:VEVENT
UID:lvnd@192.168.245.71:3006
SEQUENCE:0
DTSTAMP:20260424T202345Z
DTSTART:20251009T070000Z
DTEND:20251009T084000Z
SUMMARY:Спецкурс по строительным материалам  (на английском языке)
LOCATION:ГК-2 410
END:VEVENT
BEGIN:VEVENT
UID:ag3w@192.168.245.71:3006
SEQUENCE:0
DTSTAMP:20260424T202345Z
DTSTART:20251009T090000Z
DTEND:20251009T104000Z
SUMMARY:Спецкурс по строительным материалам  (на английском языке)
LOCATION:ГК-2 410
END:VEVENT
BEGIN:VEVENT
UID:4bx8@192.168.245.71:3006
SEQUENCE:0
DTSTAMP:20260424T202345Z
DTSTART:20251009T110000Z
DTEND:20251009T124000Z
SUMMARY:Информационные технологии для развития территорий (на английском я
 зыке)
LOCATION:ГК 216
END:VEVENT
BEGIN:VEVENT
UID:btbd@192.168.245.71:3006
SEQUENCE:0
DTSTAMP:20260424T202345Z
DTSTART:20251009T130000Z
DTEND:20251009T144000Z
SUMMARY:Кросс-культурные коммуникации и самоменеджмент (на английском язык
 е)
LOCATION:ГК-2 405
END:VEVENT
END:VCALENDAR