BEGIN:VCALENDAR
VERSION:2.0
PRODID:-//spbstu.ru//ical//RU
NAME:Расписание группы 3140801/51201
X-WR-CALNAME:Расписание группы 3140801/51201
TIMEZONE-ID:Europe/Moscow
X-WR-TIMEZONE:Europe/Moscow
BEGIN:VEVENT
UID:bvy1@192.168.245.71:3006
SEQUENCE:0
DTSTAMP:20260424T002508Z
DTSTART:20251118T070000Z
DTEND:20251118T085000Z
SUMMARY:Цифровое  моделирование зданий и сооружений (на английском языке)
LOCATION:ГК-2 404
END:VEVENT
BEGIN:VEVENT
UID:t0tz@192.168.245.71:3006
SEQUENCE:0
DTSTAMP:20260424T002508Z
DTSTART:20251118T090000Z
DTEND:20251118T104500Z
SUMMARY:Иностранный язык в профессиональной коммуникации (на английском яз
 ыке)\, Английский
LOCATION:ГК-2 502
END:VEVENT
BEGIN:VEVENT
UID:r0ec@192.168.245.71:3006
SEQUENCE:0
DTSTAMP:20260424T002508Z
DTSTART:20251118T110000Z
DTEND:20251118T124000Z
SUMMARY:Математическое моделирование (на английском языке)
LOCATION:ГК 216
END:VEVENT
BEGIN:VEVENT
UID:jufq@192.168.245.71:3006
SEQUENCE:0
DTSTAMP:20260424T002508Z
DTSTART:20251118T130000Z
DTEND:20251118T144000Z
SUMMARY:Водоснабжение и водоэффективность (на английском языке)
LOCATION:ГК-2 508
END:VEVENT
BEGIN:VEVENT
UID:a0yz@192.168.245.71:3006
SEQUENCE:0
DTSTAMP:20260424T002508Z
DTSTART:20251119T070000Z
DTEND:20251119T084000Z
SUMMARY:Методология научных исследований (на английском языке)
LOCATION:DL Дистанционно
END:VEVENT
BEGIN:VEVENT
UID:ix1e@192.168.245.71:3006
SEQUENCE:0
DTSTAMP:20260424T002508Z
DTSTART:20251119T090000Z
DTEND:20251119T104000Z
SUMMARY:Международные коммуникации в строительном бизнесе (на английском я
 зыке)
LOCATION:DL Дистанционно
END:VEVENT
BEGIN:VEVENT
UID:7op2@192.168.245.71:3006
SEQUENCE:0
DTSTAMP:20260424T002508Z
DTSTART:20251120T070000Z
DTEND:20251120T084000Z
SUMMARY:Спецкурс по строительным материалам  (на английском языке)
LOCATION:ГК-2 410
END:VEVENT
BEGIN:VEVENT
UID:65o0@192.168.245.71:3006
SEQUENCE:0
DTSTAMP:20260424T002508Z
DTSTART:20251120T090000Z
DTEND:20251120T104000Z
SUMMARY:Спецкурс по строительным материалам  (на английском языке)
LOCATION:ГК-2 410
END:VEVENT
BEGIN:VEVENT
UID:e9c7@192.168.245.71:3006
SEQUENCE:0
DTSTAMP:20260424T002508Z
DTSTART:20251120T110000Z
DTEND:20251120T124000Z
SUMMARY:Информационные технологии для развития территорий (на английском я
 зыке)
LOCATION:ГК 216
END:VEVENT
BEGIN:VEVENT
UID:r9ep@192.168.245.71:3006
SEQUENCE:0
DTSTAMP:20260424T002508Z
DTSTART:20251120T130000Z
DTEND:20251120T144000Z
SUMMARY:Кросс-культурные коммуникации и самоменеджмент (на английском язык
 е)
LOCATION:ГК-2 405
END:VEVENT
END:VCALENDAR