BEGIN:VCALENDAR
VERSION:2.0
PRODID:-//spbstu.ru//ical//RU
NAME:Расписание группы 3140801/51201
X-WR-CALNAME:Расписание группы 3140801/51201
TIMEZONE-ID:Europe/Moscow
X-WR-TIMEZONE:Europe/Moscow
BEGIN:VEVENT
UID:yg36@192.168.245.71:3006
SEQUENCE:0
DTSTAMP:20260424T040503Z
DTSTART:20251105T070000Z
DTEND:20251105T084000Z
SUMMARY:Методология научных исследований (на английском языке)
LOCATION:DL Дистанционно
END:VEVENT
BEGIN:VEVENT
UID:lhww@192.168.245.71:3006
SEQUENCE:0
DTSTAMP:20260424T040503Z
DTSTART:20251105T090000Z
DTEND:20251105T104000Z
SUMMARY:Международные коммуникации в строительном бизнесе (на английском я
 зыке)
LOCATION:DL Дистанционно
END:VEVENT
BEGIN:VEVENT
UID:1dky@192.168.245.71:3006
SEQUENCE:0
DTSTAMP:20260424T040503Z
DTSTART:20251106T070000Z
DTEND:20251106T084000Z
SUMMARY:Спецкурс по строительным материалам  (на английском языке)
LOCATION:ГК-2 410
END:VEVENT
BEGIN:VEVENT
UID:6ekp@192.168.245.71:3006
SEQUENCE:0
DTSTAMP:20260424T040503Z
DTSTART:20251106T090000Z
DTEND:20251106T104000Z
SUMMARY:Спецкурс по строительным материалам  (на английском языке)
LOCATION:ГК-2 410
END:VEVENT
BEGIN:VEVENT
UID:tg3i@192.168.245.71:3006
SEQUENCE:0
DTSTAMP:20260424T040503Z
DTSTART:20251106T110000Z
DTEND:20251106T124000Z
SUMMARY:Информационные технологии для развития территорий (на английском я
 зыке)
LOCATION:ГК 216
END:VEVENT
BEGIN:VEVENT
UID:oims@192.168.245.71:3006
SEQUENCE:0
DTSTAMP:20260424T040503Z
DTSTART:20251106T130000Z
DTEND:20251106T144000Z
SUMMARY:Кросс-культурные коммуникации и самоменеджмент (на английском язык
 е)
LOCATION:ГК-2 405
END:VEVENT
END:VCALENDAR