BEGIN:VCALENDAR
VERSION:2.0
PRODID:-//spbstu.ru//ical//RU
NAME:Расписание группы 3140801/51201
X-WR-CALNAME:Расписание группы 3140801/51201
TIMEZONE-ID:Europe/Moscow
X-WR-TIMEZONE:Europe/Moscow
BEGIN:VEVENT
UID:5i4r@192.168.245.71:3006
SEQUENCE:0
DTSTAMP:20260423T222525Z
DTSTART:20251202T070000Z
DTEND:20251202T084000Z
SUMMARY:Цифровое  моделирование зданий и сооружений (на английском языке)
LOCATION:ГК-2 404
END:VEVENT
BEGIN:VEVENT
UID:ne61@192.168.245.71:3006
SEQUENCE:0
DTSTAMP:20260423T222525Z
DTSTART:20251202T090000Z
DTEND:20251202T104500Z
SUMMARY:Иностранный язык в профессиональной коммуникации (на английском яз
 ыке)\, Английский
LOCATION:ГК-2 502
END:VEVENT
BEGIN:VEVENT
UID:19mr@192.168.245.71:3006
SEQUENCE:0
DTSTAMP:20260423T222525Z
DTSTART:20251202T110000Z
DTEND:20251202T124000Z
SUMMARY:Математическое моделирование (на английском языке)
LOCATION:ГК 216
END:VEVENT
BEGIN:VEVENT
UID:feg4@192.168.245.71:3006
SEQUENCE:0
DTSTAMP:20260423T222525Z
DTSTART:20251202T130000Z
DTEND:20251202T144000Z
SUMMARY:Водоснабжение и водоэффективность (на английском языке)
LOCATION:ГК-2 508
END:VEVENT
BEGIN:VEVENT
UID:e6ur@192.168.245.71:3006
SEQUENCE:0
DTSTAMP:20260423T222525Z
DTSTART:20251203T070000Z
DTEND:20251203T084000Z
SUMMARY:Методология научных исследований (на английском языке)
LOCATION:DL Дистанционно
END:VEVENT
BEGIN:VEVENT
UID:p3d7@192.168.245.71:3006
SEQUENCE:0
DTSTAMP:20260423T222525Z
DTSTART:20251203T090000Z
DTEND:20251203T104000Z
SUMMARY:Международные коммуникации в строительном бизнесе (на английском я
 зыке)
LOCATION:DL Дистанционно
END:VEVENT
BEGIN:VEVENT
UID:28qz@192.168.245.71:3006
SEQUENCE:0
DTSTAMP:20260423T222525Z
DTSTART:20251204T070000Z
DTEND:20251204T084000Z
SUMMARY:Спецкурс по строительным материалам  (на английском языке)
LOCATION:ГК-2 410
END:VEVENT
BEGIN:VEVENT
UID:mr9e@192.168.245.71:3006
SEQUENCE:0
DTSTAMP:20260423T222525Z
DTSTART:20251204T090000Z
DTEND:20251204T104000Z
SUMMARY:Спецкурс по строительным материалам  (на английском языке)
LOCATION:ГК-2 410
END:VEVENT
BEGIN:VEVENT
UID:4qzn@192.168.245.71:3006
SEQUENCE:0
DTSTAMP:20260423T222525Z
DTSTART:20251204T110000Z
DTEND:20251204T124000Z
SUMMARY:Информационные технологии для развития территорий (на английском я
 зыке)
LOCATION:ГК 216
END:VEVENT
BEGIN:VEVENT
UID:vxxq@192.168.245.71:3006
SEQUENCE:0
DTSTAMP:20260423T222525Z
DTSTART:20251204T130000Z
DTEND:20251204T144000Z
SUMMARY:Кросс-культурные коммуникации и самоменеджмент (на английском язык
 е)
LOCATION:ГК-2 405
END:VEVENT
END:VCALENDAR