BEGIN:VCALENDAR
VERSION:2.0
PRODID:-//spbstu.ru//ical//RU
NAME:Расписание группы 3140801/51201
X-WR-CALNAME:Расписание группы 3140801/51201
TIMEZONE-ID:Europe/Moscow
X-WR-TIMEZONE:Europe/Moscow
BEGIN:VEVENT
UID:wa03@192.168.245.71:3006
SEQUENCE:0
DTSTAMP:20260422T071202Z
DTSTART:20260224T070000Z
DTEND:20260224T084000Z
SUMMARY:Обследование строительных конструкций (на английском языке)
LOCATION:ГК 410
END:VEVENT
BEGIN:VEVENT
UID:q2h7@192.168.245.71:3006
SEQUENCE:0
DTSTAMP:20260422T071202Z
DTSTART:20260224T090000Z
DTEND:20260224T104000Z
SUMMARY:Экономика недвижимости (на английском языке)
LOCATION:ГК-2 207а
END:VEVENT
BEGIN:VEVENT
UID:44pg@192.168.245.71:3006
SEQUENCE:0
DTSTAMP:20260422T071202Z
DTSTART:20260224T110000Z
DTEND:20260224T124000Z
SUMMARY:Экономика недвижимости (на английском языке)
LOCATION:ГК-2 207а
END:VEVENT
BEGIN:VEVENT
UID:ofai@192.168.245.71:3006
SEQUENCE:0
DTSTAMP:20260422T071202Z
DTSTART:20260224T130000Z
DTEND:20260224T144000Z
SUMMARY:Русский язык как иностранный
LOCATION:ГК-2 401
END:VEVENT
BEGIN:VEVENT
UID:dkil@192.168.245.71:3006
SEQUENCE:0
DTSTAMP:20260422T071202Z
DTSTART:20260224T150000Z
DTEND:20260224T164000Z
SUMMARY:Иностранный язык в профессиональной коммуникации (на английском яз
 ыке)\, Английский
LOCATION:ГК-2 407
END:VEVENT
BEGIN:VEVENT
UID:z3cl@192.168.245.71:3006
SEQUENCE:0
DTSTAMP:20260422T071202Z
DTSTART:20260225T070000Z
DTEND:20260225T084000Z
SUMMARY:Управление инновационным проектом (на английском языке)
LOCATION:ГК 216
END:VEVENT
BEGIN:VEVENT
UID:hkk6@192.168.245.71:3006
SEQUENCE:0
DTSTAMP:20260422T071202Z
DTSTART:20260225T090000Z
DTEND:20260225T104000Z
SUMMARY:Геоинформационные технологии в строительстве (на английском языке)
LOCATION:ГК-2 304
END:VEVENT
BEGIN:VEVENT
UID:0dfy@192.168.245.71:3006
SEQUENCE:0
DTSTAMP:20260422T071202Z
DTSTART:20260225T110000Z
DTEND:20260225T124000Z
SUMMARY:Программные комплексы в строительстве (на английском языке)
LOCATION:ГК-2 304
END:VEVENT
BEGIN:VEVENT
UID:ggx1@192.168.245.71:3006
SEQUENCE:0
DTSTAMP:20260422T071202Z
DTSTART:20260225T130000Z
DTEND:20260225T144000Z
SUMMARY:Инженерные системы зданий (на английском языке)
LOCATION:ГК-2 507
END:VEVENT
BEGIN:VEVENT
UID:p6q3@192.168.245.71:3006
SEQUENCE:0
DTSTAMP:20260422T071202Z
DTSTART:20260225T150000Z
DTEND:20260225T164000Z
SUMMARY:Спецкурс по строительным материалам  (на английском языке)
LOCATION:ГК 123а
END:VEVENT
BEGIN:VEVENT
UID:ha3o@192.168.245.71:3006
SEQUENCE:0
DTSTAMP:20260422T071202Z
DTSTART:20260226T110000Z
DTEND:20260226T124000Z
SUMMARY:НИРМ
LOCATION:ГК-2 405
END:VEVENT
END:VCALENDAR