BEGIN:VCALENDAR
VERSION:2.0
PRODID:-//spbstu.ru//ical//RU
NAME:Расписание группы 3140801/51201
X-WR-CALNAME:Расписание группы 3140801/51201
TIMEZONE-ID:Europe/Moscow
X-WR-TIMEZONE:Europe/Moscow
BEGIN:VEVENT
UID:4ao5@192.168.245.71:3006
SEQUENCE:0
DTSTAMP:20260422T104651Z
DTSTART:20260210T070000Z
DTEND:20260210T084000Z
SUMMARY:Обследование строительных конструкций (на английском языке)
LOCATION:ГК 410
END:VEVENT
BEGIN:VEVENT
UID:y7w8@192.168.245.71:3006
SEQUENCE:0
DTSTAMP:20260422T104651Z
DTSTART:20260210T090000Z
DTEND:20260210T104000Z
SUMMARY:Экономика недвижимости (на английском языке)
LOCATION:ГК-2 207а
END:VEVENT
BEGIN:VEVENT
UID:33w8@192.168.245.71:3006
SEQUENCE:0
DTSTAMP:20260422T104651Z
DTSTART:20260210T110000Z
DTEND:20260210T124000Z
SUMMARY:Экономика недвижимости (на английском языке)
LOCATION:ГК-2 207а
END:VEVENT
BEGIN:VEVENT
UID:um3r@192.168.245.71:3006
SEQUENCE:0
DTSTAMP:20260422T104651Z
DTSTART:20260210T130000Z
DTEND:20260210T144000Z
SUMMARY:Русский язык как иностранный
LOCATION:ГК-2 401
END:VEVENT
BEGIN:VEVENT
UID:5mfk@192.168.245.71:3006
SEQUENCE:0
DTSTAMP:20260422T104651Z
DTSTART:20260210T150000Z
DTEND:20260210T164000Z
SUMMARY:Водоснабжение и водоэффективность (на английском языке)
LOCATION:ГК-2 410
END:VEVENT
BEGIN:VEVENT
UID:a0dl@192.168.245.71:3006
SEQUENCE:0
DTSTAMP:20260422T104651Z
DTSTART:20260211T070000Z
DTEND:20260211T084000Z
SUMMARY:Управление инновационным проектом (на английском языке)
LOCATION:ГК 216
END:VEVENT
BEGIN:VEVENT
UID:1tlo@192.168.245.71:3006
SEQUENCE:0
DTSTAMP:20260422T104651Z
DTSTART:20260211T090000Z
DTEND:20260211T104000Z
SUMMARY:Геоинформационные технологии в строительстве (на английском языке)
LOCATION:ГК-2 304
END:VEVENT
BEGIN:VEVENT
UID:xpe0@192.168.245.71:3006
SEQUENCE:0
DTSTAMP:20260422T104651Z
DTSTART:20260211T110000Z
DTEND:20260211T124000Z
SUMMARY:Программные комплексы в строительстве (на английском языке)
LOCATION:ГК-2 304
END:VEVENT
BEGIN:VEVENT
UID:363x@192.168.245.71:3006
SEQUENCE:0
DTSTAMP:20260422T104651Z
DTSTART:20260211T130000Z
DTEND:20260211T144000Z
SUMMARY:Инженерные системы зданий (на английском языке)
LOCATION:ГК-2 507
END:VEVENT
BEGIN:VEVENT
UID:2osg@192.168.245.71:3006
SEQUENCE:0
DTSTAMP:20260422T104651Z
DTSTART:20260211T150000Z
DTEND:20260211T164000Z
SUMMARY:Информационные технологии для развития территорий (на английском я
 зыке)
LOCATION:ГК 216
END:VEVENT
BEGIN:VEVENT
UID:l6ov@192.168.245.71:3006
SEQUENCE:0
DTSTAMP:20260422T104651Z
DTSTART:20260212T090000Z
DTEND:20260212T104000Z
SUMMARY:Математическое моделирование (на английском языке)
LOCATION:ГК 216
END:VEVENT
BEGIN:VEVENT
UID:f4rq@192.168.245.71:3006
SEQUENCE:0
DTSTAMP:20260422T104651Z
DTSTART:20260213T090000Z
DTEND:20260213T104000Z
SUMMARY:Цифровые ресурсы в научном исследовании (на английском языке)
LOCATION:DL Дистанционно
END:VEVENT
BEGIN:VEVENT
UID:xagv@192.168.245.71:3006
SEQUENCE:0
DTSTAMP:20260422T104651Z
DTSTART:20260214T070000Z
DTEND:20260214T084000Z
SUMMARY:Методология научных исследований (на английском языке)
LOCATION:DL Дистанционно
END:VEVENT
BEGIN:VEVENT
UID:yhi2@192.168.245.71:3006
SEQUENCE:0
DTSTAMP:20260422T104651Z
DTSTART:20260214T090000Z
DTEND:20260214T104000Z
SUMMARY:Международные коммуникации в строительном бизнесе (на английском я
 зыке)
LOCATION:DL Дистанционно
END:VEVENT
END:VCALENDAR