BEGIN:VCALENDAR
VERSION:2.0
PRODID:-//spbstu.ru//ical//RU
NAME:Расписание группы 3140801/52501
X-WR-CALNAME:Расписание группы 3140801/52501
TIMEZONE-ID:Europe/Moscow
X-WR-TIMEZONE:Europe/Moscow
BEGIN:VEVENT
UID:fmsc@192.168.245.71:3006
SEQUENCE:0
DTSTAMP:20260421T200954Z
DTSTART:20260511T110000Z
DTEND:20260511T124000Z
SUMMARY:Инновационные строительные материалы и 3D-принтинг
LOCATION:ГК 117
END:VEVENT
BEGIN:VEVENT
UID:xe71@192.168.245.71:3006
SEQUENCE:0
DTSTAMP:20260421T200954Z
DTSTART:20260516T050000Z
DTEND:20260516T064000Z
SUMMARY:Право в строительстве
LOCATION:ГК-2 407
END:VEVENT
END:VCALENDAR