BEGIN:VCALENDAR
VERSION:2.0
PRODID:-//spbstu.ru//ical//RU
NAME:Расписание группы 3140801/52502
X-WR-CALNAME:Расписание группы 3140801/52502
TIMEZONE-ID:Europe/Moscow
X-WR-TIMEZONE:Europe/Moscow
BEGIN:VEVENT
UID:idtb@192.168.245.71:3006
SEQUENCE:0
DTSTAMP:20260423T024136Z
DTSTART:20260203T090000Z
DTEND:20260203T104000Z
SUMMARY:Стоимостной инжиниринг и цифровые технологии строительного контрол
 я
LOCATION:СПГК 125
END:VEVENT
BEGIN:VEVENT
UID:6hqa@192.168.245.71:3006
SEQUENCE:0
DTSTAMP:20260423T024136Z
DTSTART:20260203T110000Z
DTEND:20260203T124000Z
SUMMARY:Стоимостной инжиниринг и цифровые технологии строительного контрол
 я
LOCATION:СПГК 125
END:VEVENT
BEGIN:VEVENT
UID:k7pl@192.168.245.71:3006
SEQUENCE:0
DTSTAMP:20260423T024136Z
DTSTART:20260203T130000Z
DTEND:20260203T144000Z
SUMMARY:Управление инновационным проектом
LOCATION:ГК-2 407
END:VEVENT
BEGIN:VEVENT
UID:7koo@192.168.245.71:3006
SEQUENCE:0
DTSTAMP:20260423T024136Z
DTSTART:20260207T050000Z
DTEND:20260207T064000Z
SUMMARY:Право в строительстве
LOCATION:ГК-2 407
END:VEVENT
END:VCALENDAR