BEGIN:VCALENDAR
VERSION:2.0
PRODID:-//spbstu.ru//ical//RU
NAME:Расписание группы 3140801/52601
X-WR-CALNAME:Расписание группы 3140801/52601
TIMEZONE-ID:Europe/Moscow
X-WR-TIMEZONE:Europe/Moscow
BEGIN:VEVENT
UID:nf16@192.168.245.71:3006
SEQUENCE:0
DTSTAMP:20260423T171346Z
DTSTART:20251202T070000Z
DTEND:20251202T084000Z
SUMMARY:Иностранный язык в профессиональной коммуникации\, Английский
LOCATION:ГК-2 502
END:VEVENT
BEGIN:VEVENT
UID:b71a@192.168.245.71:3006
SEQUENCE:0
DTSTAMP:20260423T171346Z
DTSTART:20251202T090000Z
DTEND:20251202T104000Z
SUMMARY:Гидроузлы комплексного назначения
LOCATION:ГК-2 507
END:VEVENT
BEGIN:VEVENT
UID:m0hg@192.168.245.71:3006
SEQUENCE:0
DTSTAMP:20260423T171346Z
DTSTART:20251202T110000Z
DTEND:20251202T124000Z
SUMMARY:Механическое оборудование ГТС
LOCATION:ГК-2 305
END:VEVENT
BEGIN:VEVENT
UID:o97c@192.168.245.71:3006
SEQUENCE:0
DTSTAMP:20260423T171346Z
DTSTART:20251204T070000Z
DTEND:20251204T084000Z
SUMMARY:Ландшафтная архитектура
LOCATION:ГК-2 315
END:VEVENT
BEGIN:VEVENT
UID:wztm@192.168.245.71:3006
SEQUENCE:0
DTSTAMP:20260423T171346Z
DTSTART:20251204T090000Z
DTEND:20251204T104000Z
SUMMARY:Строительство морских объектов в условиях Арктики
LOCATION:ГК-2 209
END:VEVENT
BEGIN:VEVENT
UID:qqda@192.168.245.71:3006
SEQUENCE:0
DTSTAMP:20260423T171346Z
DTSTART:20251204T110000Z
DTEND:20251204T124000Z
SUMMARY:Цифровое моделирование зданий и сооружений
LOCATION:ГК-2 508
END:VEVENT
BEGIN:VEVENT
UID:xtlf@192.168.245.71:3006
SEQUENCE:0
DTSTAMP:20260423T171346Z
DTSTART:20251204T130000Z
DTEND:20251204T144000Z
SUMMARY:Строительство морских объектов в условиях Арктики
LOCATION:ГК-2 209
END:VEVENT
BEGIN:VEVENT
UID:o4x5@192.168.245.71:3006
SEQUENCE:0
DTSTAMP:20260423T171346Z
DTSTART:20251206T090000Z
DTEND:20251206T104000Z
SUMMARY:Математическое моделирование
LOCATION:ГК-2 406
END:VEVENT
BEGIN:VEVENT
UID:i45y@192.168.245.71:3006
SEQUENCE:0
DTSTAMP:20260423T171346Z
DTSTART:20251206T110000Z
DTEND:20251206T124000Z
SUMMARY:Математическое моделирование
LOCATION:ГК-2 304
END:VEVENT
END:VCALENDAR