BEGIN:VCALENDAR
VERSION:2.0
PRODID:-//spbstu.ru//ical//RU
NAME:Расписание группы 3140801/52601
X-WR-CALNAME:Расписание группы 3140801/52601
TIMEZONE-ID:Europe/Moscow
X-WR-TIMEZONE:Europe/Moscow
BEGIN:VEVENT
UID:7s4m@192.168.245.71:3006
SEQUENCE:0
DTSTAMP:20260423T041831Z
DTSTART:20251222T070000Z
DTEND:20251222T100000Z
SUMMARY:Цифровое моделирование зданий и сооружений
LOCATION:ГК-2 508
END:VEVENT
BEGIN:VEVENT
UID:sjwr@192.168.245.71:3006
SEQUENCE:0
DTSTAMP:20260423T041831Z
DTSTART:20251223T070000Z
DTEND:20251223T084000Z
SUMMARY:Иностранный язык в профессиональной коммуникации\, Английский
LOCATION:ГК-2 110
END:VEVENT
BEGIN:VEVENT
UID:1mpk@192.168.245.71:3006
SEQUENCE:0
DTSTAMP:20260423T041831Z
DTSTART:20251223T090000Z
DTEND:20251223T140000Z
SUMMARY:Иностранный язык в профессиональной коммуникации\, Английский
LOCATION:ГК-2 110
END:VEVENT
BEGIN:VEVENT
UID:rqd5@192.168.245.71:3006
SEQUENCE:0
DTSTAMP:20260423T041831Z
DTSTART:20251225T090000Z
DTEND:20251225T120000Z
SUMMARY:Цифровые ресурсы в научном исследовании
LOCATION:ГК-2 210
END:VEVENT
BEGIN:VEVENT
UID:fnje@192.168.245.71:3006
SEQUENCE:0
DTSTAMP:20260423T041831Z
DTSTART:20251227T110000Z
DTEND:20251227T124000Z
SUMMARY:Методология научных исследований
LOCATION:DL Дистанционно
END:VEVENT
BEGIN:VEVENT
UID:kur4@192.168.245.71:3006
SEQUENCE:0
DTSTAMP:20260423T041831Z
DTSTART:20251227T130000Z
DTEND:20251227T134000Z
SUMMARY:НИР
LOCATION:DL Дистанционно
END:VEVENT
BEGIN:VEVENT
UID:e1f0@192.168.245.71:3006
SEQUENCE:0
DTSTAMP:20260423T041831Z
DTSTART:20251227T140000Z
DTEND:20251227T164000Z
SUMMARY:НИР
LOCATION:DL Дистанционно
END:VEVENT
END:VCALENDAR