BEGIN:VCALENDAR
VERSION:2.0
PRODID:-//spbstu.ru//ical//RU
NAME:Расписание группы 3140801/52602
X-WR-CALNAME:Расписание группы 3140801/52602
TIMEZONE-ID:Europe/Moscow
X-WR-TIMEZONE:Europe/Moscow
BEGIN:VEVENT
UID:4lgt@192.168.245.71:3006
SEQUENCE:0
DTSTAMP:20260423T140506Z
DTSTART:20251230T070000Z
DTEND:20251230T074000Z
SUMMARY:Механическое оборудование ГТС
LOCATION:ГК-2 304
END:VEVENT
BEGIN:VEVENT
UID:1ldw@192.168.245.71:3006
SEQUENCE:0
DTSTAMP:20260423T140506Z
DTSTART:20251230T080000Z
DTEND:20251230T110000Z
SUMMARY:Механическое оборудование ГТС
LOCATION:ГК-2 304
END:VEVENT
END:VCALENDAR