BEGIN:VCALENDAR
VERSION:2.0
PRODID:-//spbstu.ru//ical//RU
NAME:Расписание группы 3140801/52602
X-WR-CALNAME:Расписание группы 3140801/52602
TIMEZONE-ID:Europe/Moscow
X-WR-TIMEZONE:Europe/Moscow
BEGIN:VEVENT
UID:08iq@192.168.245.71:3006
SEQUENCE:0
DTSTAMP:20260421T201005Z
DTSTART:20260401T070000Z
DTEND:20260401T084000Z
SUMMARY:Цифровое проектирование ГТС
LOCATION:ГК-2 304
END:VEVENT
BEGIN:VEVENT
UID:x10q@192.168.245.71:3006
SEQUENCE:0
DTSTAMP:20260421T201005Z
DTSTART:20260401T090000Z
DTEND:20260401T104000Z
SUMMARY:Эксплуатация и обследование портовых сооружений
LOCATION:ГК-2 209
END:VEVENT
BEGIN:VEVENT
UID:kbyj@192.168.245.71:3006
SEQUENCE:0
DTSTAMP:20260421T201005Z
DTSTART:20260401T110000Z
DTEND:20260401T124000Z
SUMMARY:Эксплуатация и обследование портовых сооружений
LOCATION:ГК-2 209
END:VEVENT
BEGIN:VEVENT
UID:d2in@192.168.245.71:3006
SEQUENCE:0
DTSTAMP:20260421T201005Z
DTSTART:20260402T090000Z
DTEND:20260402T104000Z
SUMMARY:Спецкурс по инженерной подготовке территорий
LOCATION:ГК 216
END:VEVENT
BEGIN:VEVENT
UID:7okh@192.168.245.71:3006
SEQUENCE:0
DTSTAMP:20260421T201005Z
DTSTART:20260402T110000Z
DTEND:20260402T124000Z
SUMMARY:Спецкурс по инженерной подготовке территорий
LOCATION:ГК 216
END:VEVENT
BEGIN:VEVENT
UID:gaui@192.168.245.71:3006
SEQUENCE:0
DTSTAMP:20260421T201005Z
DTSTART:20260402T130000Z
DTEND:20260402T144000Z
SUMMARY:Программные комплексы для расчета гидротехнических сооружений
LOCATION:ГК-2 305
END:VEVENT
END:VCALENDAR