BEGIN:VCALENDAR
VERSION:2.0
PRODID:-//spbstu.ru//ical//RU
NAME:Расписание группы 3140801/52801
X-WR-CALNAME:Расписание группы 3140801/52801
TIMEZONE-ID:Europe/Moscow
X-WR-TIMEZONE:Europe/Moscow
BEGIN:VEVENT
UID:rvdp@192.168.245.71:3006
SEQUENCE:0
DTSTAMP:20260424T231735Z
DTSTART:20251110T110000Z
DTEND:20251110T124000Z
SUMMARY:Строительная механика (специальный курс)
LOCATION:ГК-2 506
END:VEVENT
BEGIN:VEVENT
UID:68v1@192.168.245.71:3006
SEQUENCE:0
DTSTAMP:20260424T231735Z
DTSTART:20251110T130000Z
DTEND:20251110T144000Z
SUMMARY:Цифровое моделирование зданий и сооружений
LOCATION:ГК-2 506
END:VEVENT
BEGIN:VEVENT
UID:fy7u@192.168.245.71:3006
SEQUENCE:0
DTSTAMP:20260424T231735Z
DTSTART:20251111T070000Z
DTEND:20251111T084000Z
SUMMARY:Математическое моделирование
LOCATION:ГК 216
END:VEVENT
BEGIN:VEVENT
UID:98iv@192.168.245.71:3006
SEQUENCE:0
DTSTAMP:20260424T231735Z
DTSTART:20251111T090000Z
DTEND:20251111T104500Z
SUMMARY:Иностранный язык в профессиональной коммуникации\, Английский
LOCATION:ГК-2 314
END:VEVENT
BEGIN:VEVENT
UID:jofe@192.168.245.71:3006
SEQUENCE:0
DTSTAMP:20260424T231735Z
DTSTART:20251113T070000Z
DTEND:20251113T085000Z
SUMMARY:Специальный курс по металлическим конструкциям
LOCATION:ГК-2 506
END:VEVENT
BEGIN:VEVENT
UID:dmes@192.168.245.71:3006
SEQUENCE:0
DTSTAMP:20260424T231735Z
DTSTART:20251113T090000Z
DTEND:20251113T104000Z
SUMMARY:Комплексное проектирование зданий и сооружений
LOCATION:ГК-2 514
END:VEVENT
BEGIN:VEVENT
UID:pdu9@192.168.245.71:3006
SEQUENCE:0
DTSTAMP:20260424T231735Z
DTSTART:20251113T110000Z
DTEND:20251113T124000Z
SUMMARY:Комплексное проектирование зданий и сооружений
LOCATION:ГК-2 514
END:VEVENT
BEGIN:VEVENT
UID:u1l2@192.168.245.71:3006
SEQUENCE:0
DTSTAMP:20260424T231735Z
DTSTART:20251113T130000Z
DTEND:20251113T144000Z
SUMMARY:Динамика сооружений
LOCATION:ГК-2 514
END:VEVENT
END:VCALENDAR