BEGIN:VCALENDAR
VERSION:2.0
PRODID:-//spbstu.ru//ical//RU
NAME:Расписание группы 3140801/53001
X-WR-CALNAME:Расписание группы 3140801/53001
TIMEZONE-ID:Europe/Moscow
X-WR-TIMEZONE:Europe/Moscow
BEGIN:VEVENT
UID:w4r7@192.168.245.71:3006
SEQUENCE:0
DTSTAMP:20260425T153747Z
DTSTART:20251022T110000Z
DTEND:20251022T124000Z
SUMMARY:Цифровые ресурсы в научном исследовании
LOCATION:DL Дистанционно
END:VEVENT
BEGIN:VEVENT
UID:qd6z@192.168.245.71:3006
SEQUENCE:0
DTSTAMP:20260425T153747Z
DTSTART:20251023T070000Z
DTEND:20251023T084000Z
SUMMARY:Экологическое обоснование устойчивого развития городской среды
LOCATION:ГК-2 203а
END:VEVENT
BEGIN:VEVENT
UID:8i11@192.168.245.71:3006
SEQUENCE:0
DTSTAMP:20260425T153747Z
DTSTART:20251023T090000Z
DTEND:20251023T104000Z
SUMMARY:Системы информационно-цифрового контроля управления и эксплуатации
  объектов ЖКХ
LOCATION:ГК-2 508
END:VEVENT
BEGIN:VEVENT
UID:04bl@192.168.245.71:3006
SEQUENCE:0
DTSTAMP:20260425T153747Z
DTSTART:20251023T110000Z
DTEND:20251023T125000Z
SUMMARY:Иностранный язык в профессиональной коммуникации\, Английский
LOCATION:ГК-2 503
END:VEVENT
BEGIN:VEVENT
UID:ukvq@192.168.245.71:3006
SEQUENCE:0
DTSTAMP:20260425T153747Z
DTSTART:20251023T130000Z
DTEND:20251023T144500Z
SUMMARY:Цифровое моделирование зданий и сооружений
LOCATION:ГК 216
END:VEVENT
BEGIN:VEVENT
UID:ugdc@192.168.245.71:3006
SEQUENCE:0
DTSTAMP:20260425T153747Z
DTSTART:20251025T070000Z
DTEND:20251025T084000Z
SUMMARY:Математическое моделирование
LOCATION:ГК-2 406
END:VEVENT
END:VCALENDAR