BEGIN:VCALENDAR
VERSION:2.0
PRODID:-//spbstu.ru//ical//RU
NAME:Расписание группы 3140801/53002
X-WR-CALNAME:Расписание группы 3140801/53002
TIMEZONE-ID:Europe/Moscow
X-WR-TIMEZONE:Europe/Moscow
BEGIN:VEVENT
UID:lhgz@192.168.245.71:3006
SEQUENCE:0
DTSTAMP:20260424T145118Z
DTSTART:20251203T110000Z
DTEND:20251203T124000Z
SUMMARY:Цифровые ресурсы в научном исследовании
LOCATION:DL Дистанционно
END:VEVENT
BEGIN:VEVENT
UID:hsyr@192.168.245.71:3006
SEQUENCE:0
DTSTAMP:20260424T145118Z
DTSTART:20251204T070000Z
DTEND:20251204T084000Z
SUMMARY:Экологическое обоснование устойчивого развития городской среды
LOCATION:ГК-2 203а
END:VEVENT
BEGIN:VEVENT
UID:el19@192.168.245.71:3006
SEQUENCE:0
DTSTAMP:20260424T145118Z
DTSTART:20251204T090000Z
DTEND:20251204T104000Z
SUMMARY:Системы информационно-цифрового контроля управления и эксплуатации
  объектов ЖКХ
LOCATION:ГК-2 508
END:VEVENT
BEGIN:VEVENT
UID:mrjm@192.168.245.71:3006
SEQUENCE:0
DTSTAMP:20260424T145118Z
DTSTART:20251204T110000Z
DTEND:20251204T124000Z
SUMMARY:Иностранный язык в профессиональной коммуникации\, Английский
LOCATION:ГК-2 503
END:VEVENT
BEGIN:VEVENT
UID:4pu3@192.168.245.71:3006
SEQUENCE:0
DTSTAMP:20260424T145118Z
DTSTART:20251204T130000Z
DTEND:20251204T144500Z
SUMMARY:Цифровое моделирование зданий и сооружений
LOCATION:ГК 216
END:VEVENT
BEGIN:VEVENT
UID:prdf@192.168.245.71:3006
SEQUENCE:0
DTSTAMP:20260424T145118Z
DTSTART:20251206T070000Z
DTEND:20251206T084000Z
SUMMARY:Математическое моделирование
LOCATION:ГК-2 406
END:VEVENT
END:VCALENDAR