BEGIN:VCALENDAR
VERSION:2.0
PRODID:-//spbstu.ru//ical//RU
NAME:Расписание группы 3140801/53002
X-WR-CALNAME:Расписание группы 3140801/53002
TIMEZONE-ID:Europe/Moscow
X-WR-TIMEZONE:Europe/Moscow
BEGIN:VEVENT
UID:7ktj@192.168.245.71:3006
SEQUENCE:0
DTSTAMP:20260422T002534Z
DTSTART:20260430T070000Z
DTEND:20260430T084000Z
SUMMARY:Экономичность и энергоэффективность объектов городского строительс
 тва и инфраструктуры
LOCATION:ГК-2 410
END:VEVENT
BEGIN:VEVENT
UID:fvnu@192.168.245.71:3006
SEQUENCE:0
DTSTAMP:20260422T002534Z
DTSTART:20260430T090000Z
DTEND:20260430T104000Z
SUMMARY:Экономичность и энергоэффективность объектов городского строительс
 тва и инфраструктуры
LOCATION:ГК-2 410
END:VEVENT
BEGIN:VEVENT
UID:0pnw@192.168.245.71:3006
SEQUENCE:0
DTSTAMP:20260422T002534Z
DTSTART:20260430T110000Z
DTEND:20260430T124000Z
SUMMARY:Спецкурс по инженерной подготовке территорий
LOCATION:ГК-2 315
END:VEVENT
BEGIN:VEVENT
UID:r9ra@192.168.245.71:3006
SEQUENCE:0
DTSTAMP:20260422T002534Z
DTSTART:20260430T130000Z
DTEND:20260430T144000Z
SUMMARY:Спецкурс по инженерной подготовке территорий
LOCATION:ГК-2 315
END:VEVENT
END:VCALENDAR