BEGIN:VCALENDAR
VERSION:2.0
PRODID:-//spbstu.ru//ical//RU
NAME:Расписание группы 3145401/50601
X-WR-CALNAME:Расписание группы 3145401/50601
TIMEZONE-ID:Europe/Moscow
X-WR-TIMEZONE:Europe/Moscow
BEGIN:VEVENT
UID:4a4s@192.168.245.71:3006
SEQUENCE:0
DTSTAMP:20260424T155924Z
DTSTART:20251110T070000Z
DTEND:20251110T084000Z
SUMMARY:Специальные технологии
LOCATION:ГЗ 301 А
END:VEVENT
BEGIN:VEVENT
UID:d4g4@192.168.245.71:3006
SEQUENCE:0
DTSTAMP:20260424T155924Z
DTSTART:20251110T090000Z
DTEND:20251110T104000Z
SUMMARY:Иностранный язык в профессиональной коммуникации\, Английский
LOCATION:ГЗ 211
END:VEVENT
BEGIN:VEVENT
UID:4uys@192.168.245.71:3006
SEQUENCE:0
DTSTAMP:20260424T155924Z
DTSTART:20251111T070000Z
DTEND:20251111T084000Z
SUMMARY:Дизайн-мышление
LOCATION:НИК Г.3.58
END:VEVENT
BEGIN:VEVENT
UID:utq1@192.168.245.71:3006
SEQUENCE:0
DTSTAMP:20260424T155924Z
DTSTART:20251111T090000Z
DTEND:20251111T104500Z
SUMMARY:Дизайн-проектирование и исследование
LOCATION:ГЗ 303 (4)
END:VEVENT
BEGIN:VEVENT
UID:ilyw@192.168.245.71:3006
SEQUENCE:0
DTSTAMP:20260424T155924Z
DTSTART:20251111T110000Z
DTEND:20251111T124500Z
SUMMARY:Дизайн-проектирование и исследование
LOCATION:ГЗ 303 (4)
END:VEVENT
BEGIN:VEVENT
UID:8e94@192.168.245.71:3006
SEQUENCE:0
DTSTAMP:20260424T155924Z
DTSTART:20251114T090000Z
DTEND:20251114T104000Z
SUMMARY:История и методология науки
LOCATION:ГЗ 280
END:VEVENT
BEGIN:VEVENT
UID:orj2@192.168.245.71:3006
SEQUENCE:0
DTSTAMP:20260424T155924Z
DTSTART:20251114T110000Z
DTEND:20251114T124500Z
SUMMARY:Теория дизайна
LOCATION:ГЗ 304
END:VEVENT
END:VCALENDAR