BEGIN:VCALENDAR
VERSION:2.0
PRODID:-//spbstu.ru//ical//RU
NAME:Расписание группы 3145401/50601
X-WR-CALNAME:Расписание группы 3145401/50601
TIMEZONE-ID:Europe/Moscow
X-WR-TIMEZONE:Europe/Moscow
BEGIN:VEVENT
UID:qxmx@192.168.245.71:3006
SEQUENCE:0
DTSTAMP:20260422T203637Z
DTSTART:20260209T110000Z
DTEND:20260209T124000Z
SUMMARY:История и методология науки
LOCATION:ГЗ 303 (3)
END:VEVENT
BEGIN:VEVENT
UID:eaey@192.168.245.71:3006
SEQUENCE:0
DTSTAMP:20260422T203637Z
DTSTART:20260209T150000Z
DTEND:20260209T173000Z
SUMMARY:Web-дизайн
LOCATION:НИК В2.20 (2)
END:VEVENT
BEGIN:VEVENT
UID:z35j@192.168.245.71:3006
SEQUENCE:0
DTSTAMP:20260422T203637Z
DTSTART:20260210T070000Z
DTEND:20260210T084000Z
SUMMARY:Цифровые ресурсы в научном исследовании
LOCATION:ГЗ 301 К
END:VEVENT
BEGIN:VEVENT
UID:zfkp@192.168.245.71:3006
SEQUENCE:0
DTSTAMP:20260422T203637Z
DTSTART:20260210T090000Z
DTEND:20260210T104000Z
SUMMARY:Научный дискурс
LOCATION:НИК В2.20 (2)
END:VEVENT
BEGIN:VEVENT
UID:8vql@192.168.245.71:3006
SEQUENCE:0
DTSTAMP:20260422T203637Z
DTSTART:20260210T110000Z
DTEND:20260210T125500Z
SUMMARY:Дизайн-проектирование и исследование
LOCATION:ГЗ 303 (4)
END:VEVENT
BEGIN:VEVENT
UID:aqu4@192.168.245.71:3006
SEQUENCE:0
DTSTAMP:20260422T203637Z
DTSTART:20260210T130000Z
DTEND:20260210T144500Z
SUMMARY:Дизайн-проектирование и исследование
LOCATION:ГЗ 303 (4)
END:VEVENT
BEGIN:VEVENT
UID:5494@192.168.245.71:3006
SEQUENCE:0
DTSTAMP:20260422T203637Z
DTSTART:20260211T070000Z
DTEND:20260211T084000Z
SUMMARY:Методы проведения научных исследований
LOCATION:ГЗ 252
END:VEVENT
BEGIN:VEVENT
UID:vv1t@192.168.245.71:3006
SEQUENCE:0
DTSTAMP:20260422T203637Z
DTSTART:20260211T090000Z
DTEND:20260211T104000Z
SUMMARY:Методы проведения научных исследований
LOCATION:ГЗ 252
END:VEVENT
BEGIN:VEVENT
UID:nqsg@192.168.245.71:3006
SEQUENCE:0
DTSTAMP:20260422T203637Z
DTSTART:20260211T140000Z
DTEND:20260211T144000Z
SUMMARY:Компьютерные технологии в дизайне
LOCATION:ГЗ 303 (5)
END:VEVENT
BEGIN:VEVENT
UID:4n58@192.168.245.71:3006
SEQUENCE:0
DTSTAMP:20260422T203637Z
DTSTART:20260212T110000Z
DTEND:20260212T124000Z
SUMMARY:Теория дизайна
LOCATION:ГЗ 304
END:VEVENT
END:VCALENDAR