BEGIN:VCALENDAR
VERSION:2.0
PRODID:-//spbstu.ru//ical//RU
NAME:Расписание группы 3145401/50601
X-WR-CALNAME:Расписание группы 3145401/50601
TIMEZONE-ID:Europe/Moscow
X-WR-TIMEZONE:Europe/Moscow
BEGIN:VEVENT
UID:byiu@192.168.245.71:3006
SEQUENCE:0
DTSTAMP:20260421T234121Z
DTSTART:20260310T070000Z
DTEND:20260310T084000Z
SUMMARY:Цифровые ресурсы в научном исследовании
LOCATION:ГЗ 301 К
END:VEVENT
BEGIN:VEVENT
UID:5gd0@192.168.245.71:3006
SEQUENCE:0
DTSTAMP:20260421T234121Z
DTSTART:20260310T090000Z
DTEND:20260310T104000Z
SUMMARY:Научный дискурс
LOCATION:НИК В2.20 (2)
END:VEVENT
BEGIN:VEVENT
UID:j8wu@192.168.245.71:3006
SEQUENCE:0
DTSTAMP:20260421T234121Z
DTSTART:20260310T110000Z
DTEND:20260310T125500Z
SUMMARY:Дизайн-проектирование и исследование
LOCATION:ГЗ 303 (4)
END:VEVENT
BEGIN:VEVENT
UID:r1kn@192.168.245.71:3006
SEQUENCE:0
DTSTAMP:20260421T234121Z
DTSTART:20260310T130000Z
DTEND:20260310T144500Z
SUMMARY:Дизайн-проектирование и исследование
LOCATION:ГЗ 303 (4)
END:VEVENT
BEGIN:VEVENT
UID:xcao@192.168.245.71:3006
SEQUENCE:0
DTSTAMP:20260421T234121Z
DTSTART:20260311T070000Z
DTEND:20260311T084000Z
SUMMARY:Методы проведения научных исследований
LOCATION:ГЗ 252
END:VEVENT
BEGIN:VEVENT
UID:p9sj@192.168.245.71:3006
SEQUENCE:0
DTSTAMP:20260421T234121Z
DTSTART:20260311T090000Z
DTEND:20260311T104000Z
SUMMARY:Методы проведения научных исследований
LOCATION:ГЗ 252
END:VEVENT
END:VCALENDAR