BEGIN:VCALENDAR
VERSION:2.0
PRODID:-//spbstu.ru//ical//RU
NAME:Расписание группы 3150801/50004
X-WR-CALNAME:Расписание группы 3150801/50004
TIMEZONE-ID:Europe/Moscow
X-WR-TIMEZONE:Europe/Moscow
BEGIN:VEVENT
UID:cz3e@192.168.245.71:3006
SEQUENCE:0
DTSTAMP:20260423T031734Z
DTSTART:20260625T070000Z
DTEND:20260625T074000Z
SUMMARY:Инженерная графика
LOCATION:ГК-2 404
END:VEVENT
BEGIN:VEVENT
UID:myh3@192.168.245.71:3006
SEQUENCE:0
DTSTAMP:20260423T031734Z
DTSTART:20260626T080000Z
DTEND:20260626T144000Z
SUMMARY:Инженерная графика
LOCATION:ГК-2 404
END:VEVENT
END:VCALENDAR