BEGIN:VCALENDAR
VERSION:2.0
PRODID:-//spbstu.ru//ical//RU
NAME:Расписание группы 3130801/40001
X-WR-CALNAME:Расписание группы 3130801/40001
TIMEZONE-ID:Europe/Moscow
X-WR-TIMEZONE:Europe/Moscow
BEGIN:VEVENT
UID:20b2@192.168.245.71:3006
SEQUENCE:0
DTSTAMP:20260424T202342Z
DTSTART:20251006T070000Z
DTEND:20251006T084000Z
SUMMARY:Гидравлика
LOCATION:ГЗ 215
END:VEVENT
BEGIN:VEVENT
UID:e3t2@192.168.245.71:3006
SEQUENCE:0
DTSTAMP:20260424T202342Z
DTSTART:20251006T090000Z
DTEND:20251006T104000Z
SUMMARY:Строительные материалы
LOCATION:ГК 117
END:VEVENT
BEGIN:VEVENT
UID:nk5l@192.168.245.71:3006
SEQUENCE:0
DTSTAMP:20260424T202342Z
DTSTART:20251006T110000Z
DTEND:20251006T124000Z
SUMMARY:Элективная физическая культура и спорт
LOCATION:СК Секции
END:VEVENT
BEGIN:VEVENT
UID:l2r6@192.168.245.71:3006
SEQUENCE:0
DTSTAMP:20260424T202342Z
DTSTART:20251007T050000Z
DTEND:20251007T064000Z
SUMMARY:Иностранный язык: Базовый курс
LOCATION:ГК 229
END:VEVENT
BEGIN:VEVENT
UID:3ggx@192.168.245.71:3006
SEQUENCE:0
DTSTAMP:20260424T202342Z
DTSTART:20251007T070000Z
DTEND:20251007T084000Z
SUMMARY:Основы проектирования зданий и сооружений
LOCATION:ГК-2 402
END:VEVENT
BEGIN:VEVENT
UID:2wfh@192.168.245.71:3006
SEQUENCE:0
DTSTAMP:20260424T202342Z
DTSTART:20251007T090000Z
DTEND:20251007T105000Z
SUMMARY:Цифровая аналитика
LOCATION:ГК-2 305
END:VEVENT
BEGIN:VEVENT
UID:7svw@192.168.245.71:3006
SEQUENCE:0
DTSTAMP:20260424T202342Z
DTSTART:20251007T110000Z
DTEND:20251007T124000Z
SUMMARY:Теоретическая механика
LOCATION:ГЗ 215
END:VEVENT
BEGIN:VEVENT
UID:5oat@192.168.245.71:3006
SEQUENCE:0
DTSTAMP:20260424T202342Z
DTSTART:20251008T070000Z
DTEND:20251008T084000Z
SUMMARY:Электротехника
LOCATION:17 уч.к. 314
END:VEVENT
BEGIN:VEVENT
UID:l872@192.168.245.71:3006
SEQUENCE:0
DTSTAMP:20260424T202342Z
DTSTART:20251008T070000Z
DTEND:20251008T084000Z
SUMMARY:Электротехника
LOCATION:17 уч.к. 310
END:VEVENT
BEGIN:VEVENT
UID:mts6@192.168.245.71:3006
SEQUENCE:0
DTSTAMP:20260424T202342Z
DTSTART:20251008T090000Z
DTEND:20251008T104000Z
SUMMARY:Архитектура
LOCATION:ГК-2 304
END:VEVENT
BEGIN:VEVENT
UID:otpw@192.168.245.71:3006
SEQUENCE:0
DTSTAMP:20260424T202342Z
DTSTART:20251008T110000Z
DTEND:20251008T124000Z
SUMMARY:Электротехника
LOCATION:ГЗ 329
END:VEVENT
BEGIN:VEVENT
UID:29un@192.168.245.71:3006
SEQUENCE:0
DTSTAMP:20260424T202342Z
DTSTART:20251008T130000Z
DTEND:20251008T144000Z
SUMMARY:Электротехника
LOCATION:ГЗ 329
END:VEVENT
BEGIN:VEVENT
UID:8shu@192.168.245.71:3006
SEQUENCE:0
DTSTAMP:20260424T202342Z
DTSTART:20251009T070000Z
DTEND:20251009T084000Z
SUMMARY:История России
LOCATION:ГК-2 401
END:VEVENT
BEGIN:VEVENT
UID:bbnj@192.168.245.71:3006
SEQUENCE:0
DTSTAMP:20260424T202342Z
DTSTART:20251009T090000Z
DTEND:20251009T104000Z
SUMMARY:Элективная физическая культура и спорт
LOCATION:СК Секции
END:VEVENT
BEGIN:VEVENT
UID:qqx2@192.168.245.71:3006
SEQUENCE:0
DTSTAMP:20260424T202342Z
DTSTART:20251009T110000Z
DTEND:20251009T124000Z
SUMMARY:Гидравлика
LOCATION:ГК 123а
END:VEVENT
BEGIN:VEVENT
UID:ku19@192.168.245.71:3006
SEQUENCE:0
DTSTAMP:20260424T202342Z
DTSTART:20251010T070000Z
DTEND:20251010T084000Z
SUMMARY:Высшая математика
LOCATION:ГК 230
END:VEVENT
BEGIN:VEVENT
UID:5qlk@192.168.245.71:3006
SEQUENCE:0
DTSTAMP:20260424T202342Z
DTSTART:20251010T090000Z
DTEND:20251010T104000Z
SUMMARY:Сопротивление материалов
LOCATION:ГК-2 401
END:VEVENT
BEGIN:VEVENT
UID:189c@192.168.245.71:3006
SEQUENCE:0
DTSTAMP:20260424T202342Z
DTSTART:20251010T110000Z
DTEND:20251010T124000Z
SUMMARY:Высшая математика
LOCATION:Мех. к. БМ
END:VEVENT
END:VCALENDAR