BEGIN:VCALENDAR
VERSION:2.0
PRODID:-//spbstu.ru//ical//RU
NAME:Расписание группы 3130801/40001
X-WR-CALNAME:Расписание группы 3130801/40001
TIMEZONE-ID:Europe/Moscow
X-WR-TIMEZONE:Europe/Moscow
BEGIN:VEVENT
UID:mhwb@192.168.245.71:3006
SEQUENCE:0
DTSTAMP:20260424T040502Z
DTSTART:20251103T070000Z
DTEND:20251103T084000Z
SUMMARY:Гидравлика
LOCATION:ГЗ 215
END:VEVENT
BEGIN:VEVENT
UID:32yj@192.168.245.71:3006
SEQUENCE:0
DTSTAMP:20260424T040502Z
DTSTART:20251103T090000Z
DTEND:20251103T104000Z
SUMMARY:Строительные материалы
LOCATION:ГК 117
END:VEVENT
BEGIN:VEVENT
UID:djdp@192.168.245.71:3006
SEQUENCE:0
DTSTAMP:20260424T040502Z
DTSTART:20251103T110000Z
DTEND:20251103T124000Z
SUMMARY:Элективная физическая культура и спорт
LOCATION:СК Секции
END:VEVENT
BEGIN:VEVENT
UID:myh7@192.168.245.71:3006
SEQUENCE:0
DTSTAMP:20260424T040502Z
DTSTART:20251105T070000Z
DTEND:20251105T084000Z
SUMMARY:Электротехника
LOCATION:17 уч.к. 314
END:VEVENT
BEGIN:VEVENT
UID:zn74@192.168.245.71:3006
SEQUENCE:0
DTSTAMP:20260424T040502Z
DTSTART:20251105T070000Z
DTEND:20251105T084000Z
SUMMARY:Электротехника
LOCATION:17 уч.к. 310
END:VEVENT
BEGIN:VEVENT
UID:hzxt@192.168.245.71:3006
SEQUENCE:0
DTSTAMP:20260424T040502Z
DTSTART:20251105T090000Z
DTEND:20251105T104000Z
SUMMARY:Архитектура
LOCATION:ГК-2 304
END:VEVENT
BEGIN:VEVENT
UID:nsd8@192.168.245.71:3006
SEQUENCE:0
DTSTAMP:20260424T040502Z
DTSTART:20251105T110000Z
DTEND:20251105T124000Z
SUMMARY:Электротехника
LOCATION:ГЗ 329
END:VEVENT
BEGIN:VEVENT
UID:bsfx@192.168.245.71:3006
SEQUENCE:0
DTSTAMP:20260424T040502Z
DTSTART:20251105T130000Z
DTEND:20251105T144000Z
SUMMARY:Электротехника
LOCATION:ГЗ 329
END:VEVENT
BEGIN:VEVENT
UID:kwfp@192.168.245.71:3006
SEQUENCE:0
DTSTAMP:20260424T040502Z
DTSTART:20251106T070000Z
DTEND:20251106T084000Z
SUMMARY:История России
LOCATION:ГК-2 401
END:VEVENT
BEGIN:VEVENT
UID:25v2@192.168.245.71:3006
SEQUENCE:0
DTSTAMP:20260424T040502Z
DTSTART:20251106T090000Z
DTEND:20251106T104000Z
SUMMARY:Элективная физическая культура и спорт
LOCATION:СК Секции
END:VEVENT
BEGIN:VEVENT
UID:w38r@192.168.245.71:3006
SEQUENCE:0
DTSTAMP:20260424T040502Z
DTSTART:20251106T110000Z
DTEND:20251106T124000Z
SUMMARY:Гидравлика
LOCATION:ГК 123а
END:VEVENT
BEGIN:VEVENT
UID:cjqh@192.168.245.71:3006
SEQUENCE:0
DTSTAMP:20260424T040502Z
DTSTART:20251107T070000Z
DTEND:20251107T084000Z
SUMMARY:Высшая математика
LOCATION:ГК 230
END:VEVENT
BEGIN:VEVENT
UID:f6ns@192.168.245.71:3006
SEQUENCE:0
DTSTAMP:20260424T040502Z
DTSTART:20251107T090000Z
DTEND:20251107T104000Z
SUMMARY:Сопротивление материалов
LOCATION:ГК-2 401
END:VEVENT
BEGIN:VEVENT
UID:mhx9@192.168.245.71:3006
SEQUENCE:0
DTSTAMP:20260424T040502Z
DTSTART:20251107T110000Z
DTEND:20251107T124000Z
SUMMARY:Высшая математика
LOCATION:Мех. к. БМ
END:VEVENT
END:VCALENDAR