BEGIN:VCALENDAR
VERSION:2.0
PRODID:-//spbstu.ru//ical//RU
NAME:Расписание группы 3130801/40005
X-WR-CALNAME:Расписание группы 3130801/40005
TIMEZONE-ID:Europe/Moscow
X-WR-TIMEZONE:Europe/Moscow
BEGIN:VEVENT
UID:i4bn@192.168.245.71:3006
SEQUENCE:0
DTSTAMP:20260423T073605Z
DTSTART:20251124T070000Z
DTEND:20251124T084000Z
SUMMARY:Гидравлика
LOCATION:ГК-2 301а
END:VEVENT
BEGIN:VEVENT
UID:irnm@192.168.245.71:3006
SEQUENCE:0
DTSTAMP:20260423T073605Z
DTSTART:20251124T090000Z
DTEND:20251124T104000Z
SUMMARY:Электротехника
LOCATION:17 уч.к. 310
END:VEVENT
BEGIN:VEVENT
UID:fp6e@192.168.245.71:3006
SEQUENCE:0
DTSTAMP:20260423T073605Z
DTSTART:20251124T090000Z
DTEND:20251124T104000Z
SUMMARY:Электротехника
LOCATION:17 уч.к. 314
END:VEVENT
BEGIN:VEVENT
UID:nhb7@192.168.245.71:3006
SEQUENCE:0
DTSTAMP:20260423T073605Z
DTSTART:20251124T110000Z
DTEND:20251124T124000Z
SUMMARY:Элективная физическая культура и спорт
LOCATION:СК Секции
END:VEVENT
BEGIN:VEVENT
UID:g3ix@192.168.245.71:3006
SEQUENCE:0
DTSTAMP:20260423T073605Z
DTSTART:20251125T070000Z
DTEND:20251125T084000Z
SUMMARY:Архитектура
LOCATION:ГЗ 215
END:VEVENT
BEGIN:VEVENT
UID:44uo@192.168.245.71:3006
SEQUENCE:0
DTSTAMP:20260423T073605Z
DTSTART:20251125T090000Z
DTEND:20251125T104000Z
SUMMARY:Сопротивление материалов
LOCATION:ГЗ 215
END:VEVENT
BEGIN:VEVENT
UID:ty1w@192.168.245.71:3006
SEQUENCE:0
DTSTAMP:20260423T073605Z
DTSTART:20251125T110000Z
DTEND:20251125T124000Z
SUMMARY:Теоретическая механика
LOCATION:ГЗ 215
END:VEVENT
BEGIN:VEVENT
UID:u2tz@192.168.245.71:3006
SEQUENCE:0
DTSTAMP:20260423T073605Z
DTSTART:20251126T110000Z
DTEND:20251126T124000Z
SUMMARY:Электротехника
LOCATION:ГЗ 329
END:VEVENT
BEGIN:VEVENT
UID:idzr@192.168.245.71:3006
SEQUENCE:0
DTSTAMP:20260423T073605Z
DTSTART:20251126T130000Z
DTEND:20251126T144000Z
SUMMARY:Модуль саморазвития (SoftSkills)
LOCATION:DL Дистанционно
END:VEVENT
BEGIN:VEVENT
UID:v0eu@192.168.245.71:3006
SEQUENCE:0
DTSTAMP:20260423T073605Z
DTSTART:20251127T050000Z
DTEND:20251127T064000Z
SUMMARY:Иностранный язык: Базовый курс
LOCATION:ГК-2 407
END:VEVENT
BEGIN:VEVENT
UID:v3zo@192.168.245.71:3006
SEQUENCE:0
DTSTAMP:20260423T073605Z
DTSTART:20251127T070000Z
DTEND:20251127T084000Z
SUMMARY:Сопротивление материалов
LOCATION:ГК-2 509
END:VEVENT
BEGIN:VEVENT
UID:fg2k@192.168.245.71:3006
SEQUENCE:0
DTSTAMP:20260423T073605Z
DTSTART:20251127T090000Z
DTEND:20251127T104000Z
SUMMARY:Элективная физическая культура и спорт
LOCATION:СК Секции
END:VEVENT
BEGIN:VEVENT
UID:hlkw@192.168.245.71:3006
SEQUENCE:0
DTSTAMP:20260423T073605Z
DTSTART:20251127T110000Z
DTEND:20251127T124000Z
SUMMARY:Строительные материалы
LOCATION:ГЗ 215
END:VEVENT
BEGIN:VEVENT
UID:2tdt@192.168.245.71:3006
SEQUENCE:0
DTSTAMP:20260423T073605Z
DTSTART:20251128T070000Z
DTEND:20251128T084000Z
SUMMARY:История России
LOCATION:ГЗ 329
END:VEVENT
BEGIN:VEVENT
UID:dy1s@192.168.245.71:3006
SEQUENCE:0
DTSTAMP:20260423T073605Z
DTSTART:20251128T090000Z
DTEND:20251128T104000Z
SUMMARY:Строительные материалы
LOCATION:ГК 113
END:VEVENT
BEGIN:VEVENT
UID:itr7@192.168.245.71:3006
SEQUENCE:0
DTSTAMP:20260423T073605Z
DTSTART:20251128T110000Z
DTEND:20251128T124000Z
SUMMARY:Высшая математика
LOCATION:ГК-2 312
END:VEVENT
BEGIN:VEVENT
UID:yizc@192.168.245.71:3006
SEQUENCE:0
DTSTAMP:20260423T073605Z
DTSTART:20251129T090000Z
DTEND:20251129T104000Z
SUMMARY:Модуль саморазвития (SoftSkills)
LOCATION:DL Дистанционно
END:VEVENT
BEGIN:VEVENT
UID:c8y8@192.168.245.71:3006
SEQUENCE:0
DTSTAMP:20260423T073605Z
DTSTART:20251129T130000Z
DTEND:20251129T144000Z
SUMMARY:Модуль саморазвития (SoftSkills)
LOCATION:DL Дистанционно
END:VEVENT
END:VCALENDAR