BEGIN:VCALENDAR
VERSION:2.0
PRODID:-//spbstu.ru//ical//RU
NAME:Расписание группы 3130801/40005
X-WR-CALNAME:Расписание группы 3130801/40005
TIMEZONE-ID:Europe/Moscow
X-WR-TIMEZONE:Europe/Moscow
BEGIN:VEVENT
UID:iwzi@192.168.245.71:3006
SEQUENCE:0
DTSTAMP:20260424T031532Z
DTSTART:20251103T070000Z
DTEND:20251103T084000Z
SUMMARY:Гидравлика
LOCATION:ГЗ 215
END:VEVENT
BEGIN:VEVENT
UID:lkc1@192.168.245.71:3006
SEQUENCE:0
DTSTAMP:20260424T031532Z
DTSTART:20251103T090000Z
DTEND:20251103T104000Z
SUMMARY:Электротехника
LOCATION:17 уч.к. 310
END:VEVENT
BEGIN:VEVENT
UID:xn3b@192.168.245.71:3006
SEQUENCE:0
DTSTAMP:20260424T031532Z
DTSTART:20251103T090000Z
DTEND:20251103T104000Z
SUMMARY:Электротехника
LOCATION:17 уч.к. 314
END:VEVENT
BEGIN:VEVENT
UID:wb0i@192.168.245.71:3006
SEQUENCE:0
DTSTAMP:20260424T031532Z
DTSTART:20251103T110000Z
DTEND:20251103T124000Z
SUMMARY:Элективная физическая культура и спорт
LOCATION:СК Секции
END:VEVENT
BEGIN:VEVENT
UID:64i3@192.168.245.71:3006
SEQUENCE:0
DTSTAMP:20260424T031532Z
DTSTART:20251103T130000Z
DTEND:20251103T144000Z
SUMMARY:История России
LOCATION:ГК-2 509
END:VEVENT
BEGIN:VEVENT
UID:4whf@192.168.245.71:3006
SEQUENCE:0
DTSTAMP:20260424T031532Z
DTSTART:20251105T070000Z
DTEND:20251105T084000Z
SUMMARY:Гидравлика
LOCATION:ГК 123а
END:VEVENT
BEGIN:VEVENT
UID:9rvf@192.168.245.71:3006
SEQUENCE:0
DTSTAMP:20260424T031532Z
DTSTART:20251105T090000Z
DTEND:20251105T104000Z
SUMMARY:Теоретическая механика
LOCATION:ГК-2 509
END:VEVENT
BEGIN:VEVENT
UID:5fen@192.168.245.71:3006
SEQUENCE:0
DTSTAMP:20260424T031532Z
DTSTART:20251105T110000Z
DTEND:20251105T124000Z
SUMMARY:Электротехника
LOCATION:ГЗ 329
END:VEVENT
BEGIN:VEVENT
UID:4txa@192.168.245.71:3006
SEQUENCE:0
DTSTAMP:20260424T031532Z
DTSTART:20251105T130000Z
DTEND:20251105T144000Z
SUMMARY:Электротехника
LOCATION:ГЗ 329
END:VEVENT
BEGIN:VEVENT
UID:0on1@192.168.245.71:3006
SEQUENCE:0
DTSTAMP:20260424T031532Z
DTSTART:20251106T050000Z
DTEND:20251106T064000Z
SUMMARY:Иностранный язык: Базовый курс
LOCATION:ГК 230
END:VEVENT
BEGIN:VEVENT
UID:68d0@192.168.245.71:3006
SEQUENCE:0
DTSTAMP:20260424T031532Z
DTSTART:20251106T070000Z
DTEND:20251106T084000Z
SUMMARY:Сопротивление материалов
LOCATION:ГК-2 509
END:VEVENT
BEGIN:VEVENT
UID:9ffd@192.168.245.71:3006
SEQUENCE:0
DTSTAMP:20260424T031532Z
DTSTART:20251106T090000Z
DTEND:20251106T104000Z
SUMMARY:Элективная физическая культура и спорт
LOCATION:СК Секции
END:VEVENT
BEGIN:VEVENT
UID:s40e@192.168.245.71:3006
SEQUENCE:0
DTSTAMP:20260424T031532Z
DTSTART:20251107T050000Z
DTEND:20251107T064000Z
SUMMARY:Основы проектирования зданий и сооружений
LOCATION:ГК-2 402
END:VEVENT
BEGIN:VEVENT
UID:vt8h@192.168.245.71:3006
SEQUENCE:0
DTSTAMP:20260424T031532Z
DTSTART:20251107T070000Z
DTEND:20251107T084000Z
SUMMARY:Высшая математика
LOCATION:ГК-2 312
END:VEVENT
BEGIN:VEVENT
UID:gq7j@192.168.245.71:3006
SEQUENCE:0
DTSTAMP:20260424T031532Z
DTSTART:20251107T090000Z
DTEND:20251107T104000Z
SUMMARY:Строительные материалы
LOCATION:ГК 117
END:VEVENT
BEGIN:VEVENT
UID:znhm@192.168.245.71:3006
SEQUENCE:0
DTSTAMP:20260424T031532Z
DTSTART:20251107T110000Z
DTEND:20251107T124000Z
SUMMARY:Высшая математика
LOCATION:Мех. к. БМ
END:VEVENT
END:VCALENDAR