BEGIN:VCALENDAR
VERSION:2.0
PRODID:-//spbstu.ru//ical//RU
NAME:Расписание группы 3130801/40005
X-WR-CALNAME:Расписание группы 3130801/40005
TIMEZONE-ID:Europe/Moscow
X-WR-TIMEZONE:Europe/Moscow
BEGIN:VEVENT
UID:hmw9@192.168.245.71:3006
SEQUENCE:0
DTSTAMP:20260423T000009Z
DTSTART:20251222T090000Z
DTEND:20251222T115500Z
SUMMARY:Цифровая аналитика
LOCATION:ГК 216
END:VEVENT
BEGIN:VEVENT
UID:qblk@192.168.245.71:3006
SEQUENCE:0
DTSTAMP:20260423T000009Z
DTSTART:20251223T070000Z
DTEND:20251223T100000Z
SUMMARY:Сопротивление материалов
LOCATION:ГК-2 312
END:VEVENT
BEGIN:VEVENT
UID:tg2u@192.168.245.71:3006
SEQUENCE:0
DTSTAMP:20260423T000009Z
DTSTART:20251225T070000Z
DTEND:20251225T084000Z
SUMMARY:Гидравлика
LOCATION:ГК 123а
END:VEVENT
BEGIN:VEVENT
UID:k17c@192.168.245.71:3006
SEQUENCE:0
DTSTAMP:20260423T000009Z
DTSTART:20251225T090000Z
DTEND:20251225T133000Z
SUMMARY:Гидравлика
LOCATION:ГК 123а
END:VEVENT
END:VCALENDAR