BEGIN:VCALENDAR
VERSION:2.0
PRODID:-//spbstu.ru//ical//RU
NAME:Расписание группы 3130801/40005
X-WR-CALNAME:Расписание группы 3130801/40005
TIMEZONE-ID:Europe/Moscow
X-WR-TIMEZONE:Europe/Moscow
BEGIN:VEVENT
UID:tehm@192.168.245.71:3006
SEQUENCE:0
DTSTAMP:20260425T134826Z
DTSTART:20250922T070000Z
DTEND:20250922T084000Z
SUMMARY:Гидравлика
LOCATION:ГЗ 215
END:VEVENT
BEGIN:VEVENT
UID:1s1z@192.168.245.71:3006
SEQUENCE:0
DTSTAMP:20260425T134826Z
DTSTART:20250922T090000Z
DTEND:20250922T104000Z
SUMMARY:Электротехника
LOCATION:17 уч.к. 310
END:VEVENT
BEGIN:VEVENT
UID:c6ao@192.168.245.71:3006
SEQUENCE:0
DTSTAMP:20260425T134826Z
DTSTART:20250922T090000Z
DTEND:20250922T104000Z
SUMMARY:Электротехника
LOCATION:17 уч.к. 314
END:VEVENT
BEGIN:VEVENT
UID:l4jg@192.168.245.71:3006
SEQUENCE:0
DTSTAMP:20260425T134826Z
DTSTART:20250922T110000Z
DTEND:20250922T124000Z
SUMMARY:Элективная физическая культура и спорт
LOCATION:СК Секции
END:VEVENT
BEGIN:VEVENT
UID:3o7n@192.168.245.71:3006
SEQUENCE:0
DTSTAMP:20260425T134826Z
DTSTART:20250922T130000Z
DTEND:20250922T144000Z
SUMMARY:История России
LOCATION:ГК-2 509
END:VEVENT
BEGIN:VEVENT
UID:3mzx@192.168.245.71:3006
SEQUENCE:0
DTSTAMP:20260425T134826Z
DTSTART:20250923T070000Z
DTEND:20250923T084000Z
SUMMARY:Архитектура
LOCATION:ГК-2 406
END:VEVENT
BEGIN:VEVENT
UID:yh3z@192.168.245.71:3006
SEQUENCE:0
DTSTAMP:20260425T134826Z
DTSTART:20250923T090000Z
DTEND:20250923T105000Z
SUMMARY:Цифровая аналитика
LOCATION:ГК 216
END:VEVENT
BEGIN:VEVENT
UID:0h1s@192.168.245.71:3006
SEQUENCE:0
DTSTAMP:20260425T134826Z
DTSTART:20250923T110000Z
DTEND:20250923T124000Z
SUMMARY:Теоретическая механика
LOCATION:ГЗ 215
END:VEVENT
BEGIN:VEVENT
UID:m2oh@192.168.245.71:3006
SEQUENCE:0
DTSTAMP:20260425T134826Z
DTSTART:20250924T070000Z
DTEND:20250924T084000Z
SUMMARY:Гидравлика
LOCATION:ГК 123а
END:VEVENT
BEGIN:VEVENT
UID:jg33@192.168.245.71:3006
SEQUENCE:0
DTSTAMP:20260425T134826Z
DTSTART:20250924T090000Z
DTEND:20250924T104000Z
SUMMARY:Теоретическая механика
LOCATION:ГК-2 509
END:VEVENT
BEGIN:VEVENT
UID:tb5y@192.168.245.71:3006
SEQUENCE:0
DTSTAMP:20260425T134826Z
DTSTART:20250924T110000Z
DTEND:20250924T124000Z
SUMMARY:Электротехника
LOCATION:ГЗ 329
END:VEVENT
BEGIN:VEVENT
UID:cryj@192.168.245.71:3006
SEQUENCE:0
DTSTAMP:20260425T134826Z
DTSTART:20250924T130000Z
DTEND:20250924T144000Z
SUMMARY:Электротехника
LOCATION:ГЗ 329
END:VEVENT
BEGIN:VEVENT
UID:e2q3@192.168.245.71:3006
SEQUENCE:0
DTSTAMP:20260425T134826Z
DTSTART:20250925T050000Z
DTEND:20250925T064000Z
SUMMARY:Иностранный язык: Базовый курс
LOCATION:ГК 230
END:VEVENT
BEGIN:VEVENT
UID:oj1s@192.168.245.71:3006
SEQUENCE:0
DTSTAMP:20260425T134826Z
DTSTART:20250925T070000Z
DTEND:20250925T084000Z
SUMMARY:Сопротивление материалов
LOCATION:ГК-2 509
END:VEVENT
BEGIN:VEVENT
UID:fhxd@192.168.245.71:3006
SEQUENCE:0
DTSTAMP:20260425T134826Z
DTSTART:20250925T090000Z
DTEND:20250925T104000Z
SUMMARY:Элективная физическая культура и спорт
LOCATION:СК Секции
END:VEVENT
BEGIN:VEVENT
UID:naxq@192.168.245.71:3006
SEQUENCE:0
DTSTAMP:20260425T134826Z
DTSTART:20250926T050000Z
DTEND:20250926T064000Z
SUMMARY:Основы проектирования зданий и сооружений
LOCATION:ГК-2 402
END:VEVENT
BEGIN:VEVENT
UID:nwyp@192.168.245.71:3006
SEQUENCE:0
DTSTAMP:20260425T134826Z
DTSTART:20250926T070000Z
DTEND:20250926T084000Z
SUMMARY:Высшая математика
LOCATION:ГК-2 312
END:VEVENT
BEGIN:VEVENT
UID:c1l9@192.168.245.71:3006
SEQUENCE:0
DTSTAMP:20260425T134826Z
DTSTART:20250926T090000Z
DTEND:20250926T104000Z
SUMMARY:Строительные материалы
LOCATION:ГК 117
END:VEVENT
BEGIN:VEVENT
UID:ec2q@192.168.245.71:3006
SEQUENCE:0
DTSTAMP:20260425T134826Z
DTSTART:20250926T110000Z
DTEND:20250926T124000Z
SUMMARY:Высшая математика
LOCATION:Мех. к. БМ
END:VEVENT
END:VCALENDAR